BEGIN:VCALENDAR
VERSION:2.0
PRODID:-//Smyrna - ECPv6.15.20//NONSGML v1.0//EN
CALSCALE:GREGORIAN
METHOD:PUBLISH
X-ORIGINAL-URL:https://smyrna.reformationbrewery.com
X-WR-CALDESC:Events for Smyrna
REFRESH-INTERVAL;VALUE=DURATION:PT1H
X-Robots-Tag:noindex
X-PUBLISHED-TTL:PT1H
BEGIN:VTIMEZONE
TZID:America/New_York
BEGIN:DAYLIGHT
TZOFFSETFROM:-0500
TZOFFSETTO:-0400
TZNAME:EDT
DTSTART:20250309T070000
END:DAYLIGHT
BEGIN:STANDARD
TZOFFSETFROM:-0400
TZOFFSETTO:-0500
TZNAME:EST
DTSTART:20251102T060000
END:STANDARD
BEGIN:DAYLIGHT
TZOFFSETFROM:-0500
TZOFFSETTO:-0400
TZNAME:EDT
DTSTART:20260308T070000
END:DAYLIGHT
BEGIN:STANDARD
TZOFFSETFROM:-0400
TZOFFSETTO:-0500
TZNAME:EST
DTSTART:20261101T060000
END:STANDARD
BEGIN:DAYLIGHT
TZOFFSETFROM:-0500
TZOFFSETTO:-0400
TZNAME:EDT
DTSTART:20270314T070000
END:DAYLIGHT
BEGIN:STANDARD
TZOFFSETFROM:-0400
TZOFFSETTO:-0500
TZNAME:EST
DTSTART:20271107T060000
END:STANDARD
END:VTIMEZONE
BEGIN:VEVENT
DTSTART;TZID=America/New_York:20261004T120000
DTEND;TZID=America/New_York:20261004T210000
DTSTAMP:20260425T080213
CREATED:20230706T215308Z
LAST-MODIFIED:20231107T231552Z
UID:10004447-1791115200-1791147600@smyrna.reformationbrewery.com
SUMMARY:Service Sundays
DESCRIPTION:Need a break from tending bar? Make Reformation your home away from home & kickoff your weekend with 25% OFF for Bar Staff & Beertenders on Sundays (all taprooms).
URL:https://smyrna.reformationbrewery.com/event/service-sundays/2026-10-04/
LOCATION:Reformation Brewery (Smyrna)\, 6255 RIVERVIEW ROAD BUILDING 4000\, SUITE 200\, Smyrna\, GA\, 30126\, United States
ATTACH;FMTTYPE=image/png:https://smyrna.reformationbrewery.com/wp-content/uploads/sites/4/2023/07/Weekly-Specials-2-1.png
ORGANIZER;CN="Reformation Brewery":MAILTO:info@reformationbrewery.com
END:VEVENT
BEGIN:VEVENT
DTSTART;TZID=America/New_York:20261004T180000
DTEND;TZID=America/New_York:20261004T200000
DTSTAMP:20260425T080213
CREATED:20230106T201053Z
LAST-MODIFIED:20240205T232609Z
UID:10005424-1791136800-1791144000@smyrna.reformationbrewery.com
SUMMARY:Trivia Night
DESCRIPTION:It’s trivia night! Gather your dream team and join us! Prizes for 1st\, 2nd\, and 3rd place!
URL:https://smyrna.reformationbrewery.com/event/trivia/2026-10-04/
LOCATION:Reformation Brewery (Smyrna)\, 6255 RIVERVIEW ROAD BUILDING 4000\, SUITE 200\, Smyrna\, GA\, 30126\, United States
ATTACH;FMTTYPE=image/jpeg:https://smyrna.reformationbrewery.com/wp-content/uploads/sites/4/2021/07/Trivia-Smyrna.jpeg
ORGANIZER;CN="Reformation Brewery":MAILTO:info@reformationbrewery.com
END:VEVENT
BEGIN:VEVENT
DTSTART;TZID=America/New_York:20261007T150000
DTEND;TZID=America/New_York:20261007T210000
DTSTAMP:20260425T080213
CREATED:20230706T173127Z
LAST-MODIFIED:20230801T233443Z
UID:10003408-1791385200-1791406800@smyrna.reformationbrewery.com
SUMMARY:Wednesday Specials
DESCRIPTION:Wednesdays are for celebrating! Stop by and let us pour you a HALF PRICE Jude at our Smyrna spot.
URL:https://smyrna.reformationbrewery.com/event/wednesday-specials/2026-10-07/
LOCATION:Reformation Brewery (Smyrna)\, 6255 RIVERVIEW ROAD BUILDING 4000\, SUITE 200\, Smyrna\, GA\, 30126\, United States
ATTACH;FMTTYPE=image/png:https://smyrna.reformationbrewery.com/wp-content/uploads/sites/4/2023/07/wed-smyrna.png
ORGANIZER;CN="Reformation Brewery":MAILTO:info@reformationbrewery.com
END:VEVENT
BEGIN:VEVENT
DTSTART;TZID=America/New_York:20261008T150000
DTEND;TZID=America/New_York:20261008T210000
DTSTAMP:20260425T080213
CREATED:20230706T200955Z
LAST-MODIFIED:20250408T162547Z
UID:10003928-1791471600-1791493200@smyrna.reformationbrewery.com
SUMMARY:Thirsty Thursday
DESCRIPTION:Come thirsty – leave with a growler full! Get $5 off when you BYOG (bring your own growler). Price varies by style.
URL:https://smyrna.reformationbrewery.com/event/thirsty-thursday/2026-10-08/
LOCATION:Reformation Brewery (Smyrna)\, 6255 RIVERVIEW ROAD BUILDING 4000\, SUITE 200\, Smyrna\, GA\, 30126\, United States
ATTACH;FMTTYPE=image/png:https://smyrna.reformationbrewery.com/wp-content/uploads/sites/4/2023/07/Weekly-Specials-2-3.png
ORGANIZER;CN="Reformation Brewery":MAILTO:info@reformationbrewery.com
END:VEVENT
BEGIN:VEVENT
DTSTART;TZID=America/New_York:20261008T190000
DTEND;TZID=America/New_York:20261008T210000
DTSTAMP:20260425T080213
CREATED:20241010T181055Z
LAST-MODIFIED:20241010T181055Z
UID:10002076-1791486000-1791493200@smyrna.reformationbrewery.com
SUMMARY:Music Bingo
DESCRIPTION:Come hang with us for Music Bingo! Brought to you by Lights Up Entertainment!
URL:https://smyrna.reformationbrewery.com/event/music-bingo-4-3/2026-10-08/
LOCATION:Reformation Brewery (Smyrna)\, 6255 RIVERVIEW ROAD BUILDING 4000\, SUITE 200\, Smyrna\, GA\, 30126\, United States
ATTACH;FMTTYPE=image/png:https://smyrna.reformationbrewery.com/wp-content/uploads/sites/4/2023/01/13.png
ORGANIZER;CN="Reformation Brewery":MAILTO:info@reformationbrewery.com
END:VEVENT
BEGIN:VEVENT
DTSTART;TZID=America/New_York:20261009T120000
DTEND;TZID=America/New_York:20261009T220000
DTSTAMP:20260425T080213
CREATED:20230706T213611Z
LAST-MODIFIED:20240327T195516Z
UID:10004189-1791547200-1791583200@smyrna.reformationbrewery.com
SUMMARY:Friday Flights
DESCRIPTION:Take a flight to Reformation\, and see where you end up! Stop by for 4oz pours of new or tried & tested favorites with friends. Just $8 in Canton & Woodstock until 2pm and all day in Smyrna.
URL:https://smyrna.reformationbrewery.com/event/friday-flights/2026-10-09/
LOCATION:Reformation Brewery (Smyrna)\, 6255 RIVERVIEW ROAD BUILDING 4000\, SUITE 200\, Smyrna\, GA\, 30126\, United States
ATTACH;FMTTYPE=image/png:https://smyrna.reformationbrewery.com/wp-content/uploads/sites/4/2023/07/9.png
ORGANIZER;CN="Reformation Brewery":MAILTO:info@reformationbrewery.com
END:VEVENT
BEGIN:VEVENT
DTSTART;TZID=America/New_York:20261010T120000
DTEND;TZID=America/New_York:20261010T220000
DTSTAMP:20260425T080213
CREATED:20230726T164153Z
LAST-MODIFIED:20230726T165849Z
UID:10004972-1791633600-1791669600@smyrna.reformationbrewery.com
SUMMARY:Saturday Specials
DESCRIPTION:$6 Judemosas all day – every taproom
URL:https://smyrna.reformationbrewery.com/event/saturday-specials/2026-10-10/
LOCATION:Reformation Brewery (Smyrna)\, 6255 RIVERVIEW ROAD BUILDING 4000\, SUITE 200\, Smyrna\, GA\, 30126\, United States
ATTACH;FMTTYPE=image/png:https://smyrna.reformationbrewery.com/wp-content/uploads/sites/4/2023/07/Weekly-Specials-2-2.png
ORGANIZER;CN="Reformation Brewery":MAILTO:info@reformationbrewery.com
END:VEVENT
BEGIN:VEVENT
DTSTART;TZID=America/New_York:20261011T120000
DTEND;TZID=America/New_York:20261011T210000
DTSTAMP:20260425T080213
CREATED:20230706T215308Z
LAST-MODIFIED:20231107T231552Z
UID:10004448-1791720000-1791752400@smyrna.reformationbrewery.com
SUMMARY:Service Sundays
DESCRIPTION:Need a break from tending bar? Make Reformation your home away from home & kickoff your weekend with 25% OFF for Bar Staff & Beertenders on Sundays (all taprooms).
URL:https://smyrna.reformationbrewery.com/event/service-sundays/2026-10-11/
LOCATION:Reformation Brewery (Smyrna)\, 6255 RIVERVIEW ROAD BUILDING 4000\, SUITE 200\, Smyrna\, GA\, 30126\, United States
ATTACH;FMTTYPE=image/png:https://smyrna.reformationbrewery.com/wp-content/uploads/sites/4/2023/07/Weekly-Specials-2-1.png
ORGANIZER;CN="Reformation Brewery":MAILTO:info@reformationbrewery.com
END:VEVENT
BEGIN:VEVENT
DTSTART;TZID=America/New_York:20261011T180000
DTEND;TZID=America/New_York:20261011T200000
DTSTAMP:20260425T080213
CREATED:20230106T201053Z
LAST-MODIFIED:20240205T232609Z
UID:10005425-1791741600-1791748800@smyrna.reformationbrewery.com
SUMMARY:Trivia Night
DESCRIPTION:It’s trivia night! Gather your dream team and join us! Prizes for 1st\, 2nd\, and 3rd place!
URL:https://smyrna.reformationbrewery.com/event/trivia/2026-10-11/
LOCATION:Reformation Brewery (Smyrna)\, 6255 RIVERVIEW ROAD BUILDING 4000\, SUITE 200\, Smyrna\, GA\, 30126\, United States
ATTACH;FMTTYPE=image/jpeg:https://smyrna.reformationbrewery.com/wp-content/uploads/sites/4/2021/07/Trivia-Smyrna.jpeg
ORGANIZER;CN="Reformation Brewery":MAILTO:info@reformationbrewery.com
END:VEVENT
BEGIN:VEVENT
DTSTART;TZID=America/New_York:20261014T150000
DTEND;TZID=America/New_York:20261014T210000
DTSTAMP:20260425T080213
CREATED:20230706T173127Z
LAST-MODIFIED:20230801T233443Z
UID:10003409-1791990000-1792011600@smyrna.reformationbrewery.com
SUMMARY:Wednesday Specials
DESCRIPTION:Wednesdays are for celebrating! Stop by and let us pour you a HALF PRICE Jude at our Smyrna spot.
URL:https://smyrna.reformationbrewery.com/event/wednesday-specials/2026-10-14/
LOCATION:Reformation Brewery (Smyrna)\, 6255 RIVERVIEW ROAD BUILDING 4000\, SUITE 200\, Smyrna\, GA\, 30126\, United States
ATTACH;FMTTYPE=image/png:https://smyrna.reformationbrewery.com/wp-content/uploads/sites/4/2023/07/wed-smyrna.png
ORGANIZER;CN="Reformation Brewery":MAILTO:info@reformationbrewery.com
END:VEVENT
BEGIN:VEVENT
DTSTART;TZID=America/New_York:20261015T150000
DTEND;TZID=America/New_York:20261015T210000
DTSTAMP:20260425T080213
CREATED:20230706T200955Z
LAST-MODIFIED:20250408T162547Z
UID:10003929-1792076400-1792098000@smyrna.reformationbrewery.com
SUMMARY:Thirsty Thursday
DESCRIPTION:Come thirsty – leave with a growler full! Get $5 off when you BYOG (bring your own growler). Price varies by style.
URL:https://smyrna.reformationbrewery.com/event/thirsty-thursday/2026-10-15/
LOCATION:Reformation Brewery (Smyrna)\, 6255 RIVERVIEW ROAD BUILDING 4000\, SUITE 200\, Smyrna\, GA\, 30126\, United States
ATTACH;FMTTYPE=image/png:https://smyrna.reformationbrewery.com/wp-content/uploads/sites/4/2023/07/Weekly-Specials-2-3.png
ORGANIZER;CN="Reformation Brewery":MAILTO:info@reformationbrewery.com
END:VEVENT
BEGIN:VEVENT
DTSTART;TZID=America/New_York:20261015T190000
DTEND;TZID=America/New_York:20261015T210000
DTSTAMP:20260425T080213
CREATED:20241010T181055Z
LAST-MODIFIED:20241010T181055Z
UID:10002077-1792090800-1792098000@smyrna.reformationbrewery.com
SUMMARY:Music Bingo
DESCRIPTION:Come hang with us for Music Bingo! Brought to you by Lights Up Entertainment!
URL:https://smyrna.reformationbrewery.com/event/music-bingo-4-3/2026-10-15/
LOCATION:Reformation Brewery (Smyrna)\, 6255 RIVERVIEW ROAD BUILDING 4000\, SUITE 200\, Smyrna\, GA\, 30126\, United States
ATTACH;FMTTYPE=image/png:https://smyrna.reformationbrewery.com/wp-content/uploads/sites/4/2023/01/13.png
ORGANIZER;CN="Reformation Brewery":MAILTO:info@reformationbrewery.com
END:VEVENT
BEGIN:VEVENT
DTSTART;TZID=America/New_York:20261016T120000
DTEND;TZID=America/New_York:20261016T220000
DTSTAMP:20260425T080213
CREATED:20230706T213611Z
LAST-MODIFIED:20240327T195516Z
UID:10004190-1792152000-1792188000@smyrna.reformationbrewery.com
SUMMARY:Friday Flights
DESCRIPTION:Take a flight to Reformation\, and see where you end up! Stop by for 4oz pours of new or tried & tested favorites with friends. Just $8 in Canton & Woodstock until 2pm and all day in Smyrna.
URL:https://smyrna.reformationbrewery.com/event/friday-flights/2026-10-16/
LOCATION:Reformation Brewery (Smyrna)\, 6255 RIVERVIEW ROAD BUILDING 4000\, SUITE 200\, Smyrna\, GA\, 30126\, United States
ATTACH;FMTTYPE=image/png:https://smyrna.reformationbrewery.com/wp-content/uploads/sites/4/2023/07/9.png
ORGANIZER;CN="Reformation Brewery":MAILTO:info@reformationbrewery.com
END:VEVENT
BEGIN:VEVENT
DTSTART;TZID=America/New_York:20261017T120000
DTEND;TZID=America/New_York:20261017T220000
DTSTAMP:20260425T080213
CREATED:20230726T164153Z
LAST-MODIFIED:20230726T165849Z
UID:10004973-1792238400-1792274400@smyrna.reformationbrewery.com
SUMMARY:Saturday Specials
DESCRIPTION:$6 Judemosas all day – every taproom
URL:https://smyrna.reformationbrewery.com/event/saturday-specials/2026-10-17/
LOCATION:Reformation Brewery (Smyrna)\, 6255 RIVERVIEW ROAD BUILDING 4000\, SUITE 200\, Smyrna\, GA\, 30126\, United States
ATTACH;FMTTYPE=image/png:https://smyrna.reformationbrewery.com/wp-content/uploads/sites/4/2023/07/Weekly-Specials-2-2.png
ORGANIZER;CN="Reformation Brewery":MAILTO:info@reformationbrewery.com
END:VEVENT
BEGIN:VEVENT
DTSTART;TZID=America/New_York:20261018T120000
DTEND;TZID=America/New_York:20261018T210000
DTSTAMP:20260425T080213
CREATED:20230706T215308Z
LAST-MODIFIED:20231107T231552Z
UID:10004449-1792324800-1792357200@smyrna.reformationbrewery.com
SUMMARY:Service Sundays
DESCRIPTION:Need a break from tending bar? Make Reformation your home away from home & kickoff your weekend with 25% OFF for Bar Staff & Beertenders on Sundays (all taprooms).
URL:https://smyrna.reformationbrewery.com/event/service-sundays/2026-10-18/
LOCATION:Reformation Brewery (Smyrna)\, 6255 RIVERVIEW ROAD BUILDING 4000\, SUITE 200\, Smyrna\, GA\, 30126\, United States
ATTACH;FMTTYPE=image/png:https://smyrna.reformationbrewery.com/wp-content/uploads/sites/4/2023/07/Weekly-Specials-2-1.png
ORGANIZER;CN="Reformation Brewery":MAILTO:info@reformationbrewery.com
END:VEVENT
BEGIN:VEVENT
DTSTART;TZID=America/New_York:20261018T180000
DTEND;TZID=America/New_York:20261018T200000
DTSTAMP:20260425T080213
CREATED:20230106T201053Z
LAST-MODIFIED:20240205T232609Z
UID:10005426-1792346400-1792353600@smyrna.reformationbrewery.com
SUMMARY:Trivia Night
DESCRIPTION:It’s trivia night! Gather your dream team and join us! Prizes for 1st\, 2nd\, and 3rd place!
URL:https://smyrna.reformationbrewery.com/event/trivia/2026-10-18/
LOCATION:Reformation Brewery (Smyrna)\, 6255 RIVERVIEW ROAD BUILDING 4000\, SUITE 200\, Smyrna\, GA\, 30126\, United States
ATTACH;FMTTYPE=image/jpeg:https://smyrna.reformationbrewery.com/wp-content/uploads/sites/4/2021/07/Trivia-Smyrna.jpeg
ORGANIZER;CN="Reformation Brewery":MAILTO:info@reformationbrewery.com
END:VEVENT
BEGIN:VEVENT
DTSTART;TZID=America/New_York:20261021T150000
DTEND;TZID=America/New_York:20261021T210000
DTSTAMP:20260425T080213
CREATED:20230706T173127Z
LAST-MODIFIED:20230801T233443Z
UID:10003410-1792594800-1792616400@smyrna.reformationbrewery.com
SUMMARY:Wednesday Specials
DESCRIPTION:Wednesdays are for celebrating! Stop by and let us pour you a HALF PRICE Jude at our Smyrna spot.
URL:https://smyrna.reformationbrewery.com/event/wednesday-specials/2026-10-21/
LOCATION:Reformation Brewery (Smyrna)\, 6255 RIVERVIEW ROAD BUILDING 4000\, SUITE 200\, Smyrna\, GA\, 30126\, United States
ATTACH;FMTTYPE=image/png:https://smyrna.reformationbrewery.com/wp-content/uploads/sites/4/2023/07/wed-smyrna.png
ORGANIZER;CN="Reformation Brewery":MAILTO:info@reformationbrewery.com
END:VEVENT
BEGIN:VEVENT
DTSTART;TZID=America/New_York:20261022T150000
DTEND;TZID=America/New_York:20261022T210000
DTSTAMP:20260425T080213
CREATED:20230706T200955Z
LAST-MODIFIED:20250408T162547Z
UID:10003930-1792681200-1792702800@smyrna.reformationbrewery.com
SUMMARY:Thirsty Thursday
DESCRIPTION:Come thirsty – leave with a growler full! Get $5 off when you BYOG (bring your own growler). Price varies by style.
URL:https://smyrna.reformationbrewery.com/event/thirsty-thursday/2026-10-22/
LOCATION:Reformation Brewery (Smyrna)\, 6255 RIVERVIEW ROAD BUILDING 4000\, SUITE 200\, Smyrna\, GA\, 30126\, United States
ATTACH;FMTTYPE=image/png:https://smyrna.reformationbrewery.com/wp-content/uploads/sites/4/2023/07/Weekly-Specials-2-3.png
ORGANIZER;CN="Reformation Brewery":MAILTO:info@reformationbrewery.com
END:VEVENT
BEGIN:VEVENT
DTSTART;TZID=America/New_York:20261022T190000
DTEND;TZID=America/New_York:20261022T210000
DTSTAMP:20260425T080213
CREATED:20241010T181055Z
LAST-MODIFIED:20241010T181055Z
UID:10002078-1792695600-1792702800@smyrna.reformationbrewery.com
SUMMARY:Music Bingo
DESCRIPTION:Come hang with us for Music Bingo! Brought to you by Lights Up Entertainment!
URL:https://smyrna.reformationbrewery.com/event/music-bingo-4-3/2026-10-22/
LOCATION:Reformation Brewery (Smyrna)\, 6255 RIVERVIEW ROAD BUILDING 4000\, SUITE 200\, Smyrna\, GA\, 30126\, United States
ATTACH;FMTTYPE=image/png:https://smyrna.reformationbrewery.com/wp-content/uploads/sites/4/2023/01/13.png
ORGANIZER;CN="Reformation Brewery":MAILTO:info@reformationbrewery.com
END:VEVENT
BEGIN:VEVENT
DTSTART;TZID=America/New_York:20261023T120000
DTEND;TZID=America/New_York:20261023T220000
DTSTAMP:20260425T080213
CREATED:20230706T213611Z
LAST-MODIFIED:20240327T195516Z
UID:10004191-1792756800-1792792800@smyrna.reformationbrewery.com
SUMMARY:Friday Flights
DESCRIPTION:Take a flight to Reformation\, and see where you end up! Stop by for 4oz pours of new or tried & tested favorites with friends. Just $8 in Canton & Woodstock until 2pm and all day in Smyrna.
URL:https://smyrna.reformationbrewery.com/event/friday-flights/2026-10-23/
LOCATION:Reformation Brewery (Smyrna)\, 6255 RIVERVIEW ROAD BUILDING 4000\, SUITE 200\, Smyrna\, GA\, 30126\, United States
ATTACH;FMTTYPE=image/png:https://smyrna.reformationbrewery.com/wp-content/uploads/sites/4/2023/07/9.png
ORGANIZER;CN="Reformation Brewery":MAILTO:info@reformationbrewery.com
END:VEVENT
BEGIN:VEVENT
DTSTART;TZID=America/New_York:20261024T120000
DTEND;TZID=America/New_York:20261024T220000
DTSTAMP:20260425T080213
CREATED:20230726T164153Z
LAST-MODIFIED:20230726T165849Z
UID:10004974-1792843200-1792879200@smyrna.reformationbrewery.com
SUMMARY:Saturday Specials
DESCRIPTION:$6 Judemosas all day – every taproom
URL:https://smyrna.reformationbrewery.com/event/saturday-specials/2026-10-24/
LOCATION:Reformation Brewery (Smyrna)\, 6255 RIVERVIEW ROAD BUILDING 4000\, SUITE 200\, Smyrna\, GA\, 30126\, United States
ATTACH;FMTTYPE=image/png:https://smyrna.reformationbrewery.com/wp-content/uploads/sites/4/2023/07/Weekly-Specials-2-2.png
ORGANIZER;CN="Reformation Brewery":MAILTO:info@reformationbrewery.com
END:VEVENT
BEGIN:VEVENT
DTSTART;TZID=America/New_York:20261025T120000
DTEND;TZID=America/New_York:20261025T210000
DTSTAMP:20260425T080213
CREATED:20230706T215308Z
LAST-MODIFIED:20231107T231552Z
UID:10004450-1792929600-1792962000@smyrna.reformationbrewery.com
SUMMARY:Service Sundays
DESCRIPTION:Need a break from tending bar? Make Reformation your home away from home & kickoff your weekend with 25% OFF for Bar Staff & Beertenders on Sundays (all taprooms).
URL:https://smyrna.reformationbrewery.com/event/service-sundays/2026-10-25/
LOCATION:Reformation Brewery (Smyrna)\, 6255 RIVERVIEW ROAD BUILDING 4000\, SUITE 200\, Smyrna\, GA\, 30126\, United States
ATTACH;FMTTYPE=image/png:https://smyrna.reformationbrewery.com/wp-content/uploads/sites/4/2023/07/Weekly-Specials-2-1.png
ORGANIZER;CN="Reformation Brewery":MAILTO:info@reformationbrewery.com
END:VEVENT
BEGIN:VEVENT
DTSTART;TZID=America/New_York:20261025T180000
DTEND;TZID=America/New_York:20261025T200000
DTSTAMP:20260425T080213
CREATED:20230106T201053Z
LAST-MODIFIED:20240205T232609Z
UID:10005427-1792951200-1792958400@smyrna.reformationbrewery.com
SUMMARY:Trivia Night
DESCRIPTION:It’s trivia night! Gather your dream team and join us! Prizes for 1st\, 2nd\, and 3rd place!
URL:https://smyrna.reformationbrewery.com/event/trivia/2026-10-25/
LOCATION:Reformation Brewery (Smyrna)\, 6255 RIVERVIEW ROAD BUILDING 4000\, SUITE 200\, Smyrna\, GA\, 30126\, United States
ATTACH;FMTTYPE=image/jpeg:https://smyrna.reformationbrewery.com/wp-content/uploads/sites/4/2021/07/Trivia-Smyrna.jpeg
ORGANIZER;CN="Reformation Brewery":MAILTO:info@reformationbrewery.com
END:VEVENT
BEGIN:VEVENT
DTSTART;TZID=America/New_York:20261028T150000
DTEND;TZID=America/New_York:20261028T210000
DTSTAMP:20260425T080213
CREATED:20230706T173127Z
LAST-MODIFIED:20230801T233443Z
UID:10003411-1793199600-1793221200@smyrna.reformationbrewery.com
SUMMARY:Wednesday Specials
DESCRIPTION:Wednesdays are for celebrating! Stop by and let us pour you a HALF PRICE Jude at our Smyrna spot.
URL:https://smyrna.reformationbrewery.com/event/wednesday-specials/2026-10-28/
LOCATION:Reformation Brewery (Smyrna)\, 6255 RIVERVIEW ROAD BUILDING 4000\, SUITE 200\, Smyrna\, GA\, 30126\, United States
ATTACH;FMTTYPE=image/png:https://smyrna.reformationbrewery.com/wp-content/uploads/sites/4/2023/07/wed-smyrna.png
ORGANIZER;CN="Reformation Brewery":MAILTO:info@reformationbrewery.com
END:VEVENT
BEGIN:VEVENT
DTSTART;TZID=America/New_York:20261029T150000
DTEND;TZID=America/New_York:20261029T210000
DTSTAMP:20260425T080213
CREATED:20230706T200955Z
LAST-MODIFIED:20250408T162547Z
UID:10003931-1793286000-1793307600@smyrna.reformationbrewery.com
SUMMARY:Thirsty Thursday
DESCRIPTION:Come thirsty – leave with a growler full! Get $5 off when you BYOG (bring your own growler). Price varies by style.
URL:https://smyrna.reformationbrewery.com/event/thirsty-thursday/2026-10-29/
LOCATION:Reformation Brewery (Smyrna)\, 6255 RIVERVIEW ROAD BUILDING 4000\, SUITE 200\, Smyrna\, GA\, 30126\, United States
ATTACH;FMTTYPE=image/png:https://smyrna.reformationbrewery.com/wp-content/uploads/sites/4/2023/07/Weekly-Specials-2-3.png
ORGANIZER;CN="Reformation Brewery":MAILTO:info@reformationbrewery.com
END:VEVENT
BEGIN:VEVENT
DTSTART;TZID=America/New_York:20261029T190000
DTEND;TZID=America/New_York:20261029T210000
DTSTAMP:20260425T080213
CREATED:20241010T181055Z
LAST-MODIFIED:20241010T181055Z
UID:10002079-1793300400-1793307600@smyrna.reformationbrewery.com
SUMMARY:Music Bingo
DESCRIPTION:Come hang with us for Music Bingo! Brought to you by Lights Up Entertainment!
URL:https://smyrna.reformationbrewery.com/event/music-bingo-4-3/2026-10-29/
LOCATION:Reformation Brewery (Smyrna)\, 6255 RIVERVIEW ROAD BUILDING 4000\, SUITE 200\, Smyrna\, GA\, 30126\, United States
ATTACH;FMTTYPE=image/png:https://smyrna.reformationbrewery.com/wp-content/uploads/sites/4/2023/01/13.png
ORGANIZER;CN="Reformation Brewery":MAILTO:info@reformationbrewery.com
END:VEVENT
BEGIN:VEVENT
DTSTART;TZID=America/New_York:20261030T120000
DTEND;TZID=America/New_York:20261030T220000
DTSTAMP:20260425T080213
CREATED:20230706T213611Z
LAST-MODIFIED:20240327T195516Z
UID:10004192-1793361600-1793397600@smyrna.reformationbrewery.com
SUMMARY:Friday Flights
DESCRIPTION:Take a flight to Reformation\, and see where you end up! Stop by for 4oz pours of new or tried & tested favorites with friends. Just $8 in Canton & Woodstock until 2pm and all day in Smyrna.
URL:https://smyrna.reformationbrewery.com/event/friday-flights/2026-10-30/
LOCATION:Reformation Brewery (Smyrna)\, 6255 RIVERVIEW ROAD BUILDING 4000\, SUITE 200\, Smyrna\, GA\, 30126\, United States
ATTACH;FMTTYPE=image/png:https://smyrna.reformationbrewery.com/wp-content/uploads/sites/4/2023/07/9.png
ORGANIZER;CN="Reformation Brewery":MAILTO:info@reformationbrewery.com
END:VEVENT
BEGIN:VEVENT
DTSTART;TZID=America/New_York:20261031T120000
DTEND;TZID=America/New_York:20261031T220000
DTSTAMP:20260425T080213
CREATED:20230726T164153Z
LAST-MODIFIED:20230726T165849Z
UID:10004975-1793448000-1793484000@smyrna.reformationbrewery.com
SUMMARY:Saturday Specials
DESCRIPTION:$6 Judemosas all day – every taproom
URL:https://smyrna.reformationbrewery.com/event/saturday-specials/2026-10-31/
LOCATION:Reformation Brewery (Smyrna)\, 6255 RIVERVIEW ROAD BUILDING 4000\, SUITE 200\, Smyrna\, GA\, 30126\, United States
ATTACH;FMTTYPE=image/png:https://smyrna.reformationbrewery.com/wp-content/uploads/sites/4/2023/07/Weekly-Specials-2-2.png
ORGANIZER;CN="Reformation Brewery":MAILTO:info@reformationbrewery.com
END:VEVENT
BEGIN:VEVENT
DTSTART;TZID=America/New_York:20261101T120000
DTEND;TZID=America/New_York:20261101T210000
DTSTAMP:20260425T080213
CREATED:20230706T215308Z
LAST-MODIFIED:20231107T231552Z
UID:10004451-1793534400-1793566800@smyrna.reformationbrewery.com
SUMMARY:Service Sundays
DESCRIPTION:Need a break from tending bar? Make Reformation your home away from home & kickoff your weekend with 25% OFF for Bar Staff & Beertenders on Sundays (all taprooms).
URL:https://smyrna.reformationbrewery.com/event/service-sundays/2026-11-01/
LOCATION:Reformation Brewery (Smyrna)\, 6255 RIVERVIEW ROAD BUILDING 4000\, SUITE 200\, Smyrna\, GA\, 30126\, United States
ATTACH;FMTTYPE=image/png:https://smyrna.reformationbrewery.com/wp-content/uploads/sites/4/2023/07/Weekly-Specials-2-1.png
ORGANIZER;CN="Reformation Brewery":MAILTO:info@reformationbrewery.com
END:VEVENT
BEGIN:VEVENT
DTSTART;TZID=America/New_York:20261101T180000
DTEND;TZID=America/New_York:20261101T200000
DTSTAMP:20260425T080213
CREATED:20230106T201053Z
LAST-MODIFIED:20240205T232609Z
UID:10005428-1793556000-1793563200@smyrna.reformationbrewery.com
SUMMARY:Trivia Night
DESCRIPTION:It’s trivia night! Gather your dream team and join us! Prizes for 1st\, 2nd\, and 3rd place!
URL:https://smyrna.reformationbrewery.com/event/trivia/2026-11-01/
LOCATION:Reformation Brewery (Smyrna)\, 6255 RIVERVIEW ROAD BUILDING 4000\, SUITE 200\, Smyrna\, GA\, 30126\, United States
ATTACH;FMTTYPE=image/jpeg:https://smyrna.reformationbrewery.com/wp-content/uploads/sites/4/2021/07/Trivia-Smyrna.jpeg
ORGANIZER;CN="Reformation Brewery":MAILTO:info@reformationbrewery.com
END:VEVENT
END:VCALENDAR