BEGIN:VCALENDAR
VERSION:2.0
PRODID:-//Smyrna - ECPv6.15.20//NONSGML v1.0//EN
CALSCALE:GREGORIAN
METHOD:PUBLISH
X-ORIGINAL-URL:https://smyrna.reformationbrewery.com
X-WR-CALDESC:Events for Smyrna
REFRESH-INTERVAL;VALUE=DURATION:PT1H
X-Robots-Tag:noindex
X-PUBLISHED-TTL:PT1H
BEGIN:VTIMEZONE
TZID:America/New_York
BEGIN:DAYLIGHT
TZOFFSETFROM:-0500
TZOFFSETTO:-0400
TZNAME:EDT
DTSTART:20250309T070000
END:DAYLIGHT
BEGIN:STANDARD
TZOFFSETFROM:-0400
TZOFFSETTO:-0500
TZNAME:EST
DTSTART:20251102T060000
END:STANDARD
BEGIN:DAYLIGHT
TZOFFSETFROM:-0500
TZOFFSETTO:-0400
TZNAME:EDT
DTSTART:20260308T070000
END:DAYLIGHT
BEGIN:STANDARD
TZOFFSETFROM:-0400
TZOFFSETTO:-0500
TZNAME:EST
DTSTART:20261101T060000
END:STANDARD
BEGIN:DAYLIGHT
TZOFFSETFROM:-0500
TZOFFSETTO:-0400
TZNAME:EDT
DTSTART:20270314T070000
END:DAYLIGHT
BEGIN:STANDARD
TZOFFSETFROM:-0400
TZOFFSETTO:-0500
TZNAME:EST
DTSTART:20271107T060000
END:STANDARD
END:VTIMEZONE
BEGIN:VEVENT
DTSTART;TZID=America/New_York:20261203T150000
DTEND;TZID=America/New_York:20261203T210000
DTSTAMP:20260425T155321
CREATED:20230706T200955Z
LAST-MODIFIED:20250408T162547Z
UID:10003936-1796310000-1796331600@smyrna.reformationbrewery.com
SUMMARY:Thirsty Thursday
DESCRIPTION:Come thirsty – leave with a growler full! Get $5 off when you BYOG (bring your own growler). Price varies by style.
URL:https://smyrna.reformationbrewery.com/event/thirsty-thursday/2026-12-03/
LOCATION:Reformation Brewery (Smyrna)\, 6255 RIVERVIEW ROAD BUILDING 4000\, SUITE 200\, Smyrna\, GA\, 30126\, United States
ATTACH;FMTTYPE=image/png:https://smyrna.reformationbrewery.com/wp-content/uploads/sites/4/2023/07/Weekly-Specials-2-3.png
ORGANIZER;CN="Reformation Brewery":MAILTO:info@reformationbrewery.com
END:VEVENT
BEGIN:VEVENT
DTSTART;TZID=America/New_York:20261203T190000
DTEND;TZID=America/New_York:20261203T210000
DTSTAMP:20260425T155321
CREATED:20241010T181055Z
LAST-MODIFIED:20241010T181055Z
UID:10002084-1796324400-1796331600@smyrna.reformationbrewery.com
SUMMARY:Music Bingo
DESCRIPTION:Come hang with us for Music Bingo! Brought to you by Lights Up Entertainment!
URL:https://smyrna.reformationbrewery.com/event/music-bingo-4-3/2026-12-03/
LOCATION:Reformation Brewery (Smyrna)\, 6255 RIVERVIEW ROAD BUILDING 4000\, SUITE 200\, Smyrna\, GA\, 30126\, United States
ATTACH;FMTTYPE=image/png:https://smyrna.reformationbrewery.com/wp-content/uploads/sites/4/2023/01/13.png
ORGANIZER;CN="Reformation Brewery":MAILTO:info@reformationbrewery.com
END:VEVENT
BEGIN:VEVENT
DTSTART;TZID=America/New_York:20261204T120000
DTEND;TZID=America/New_York:20261204T220000
DTSTAMP:20260425T155321
CREATED:20230706T213611Z
LAST-MODIFIED:20240327T195516Z
UID:10004197-1796385600-1796421600@smyrna.reformationbrewery.com
SUMMARY:Friday Flights
DESCRIPTION:Take a flight to Reformation\, and see where you end up! Stop by for 4oz pours of new or tried & tested favorites with friends. Just $8 in Canton & Woodstock until 2pm and all day in Smyrna.
URL:https://smyrna.reformationbrewery.com/event/friday-flights/2026-12-04/
LOCATION:Reformation Brewery (Smyrna)\, 6255 RIVERVIEW ROAD BUILDING 4000\, SUITE 200\, Smyrna\, GA\, 30126\, United States
ATTACH;FMTTYPE=image/png:https://smyrna.reformationbrewery.com/wp-content/uploads/sites/4/2023/07/9.png
ORGANIZER;CN="Reformation Brewery":MAILTO:info@reformationbrewery.com
END:VEVENT
BEGIN:VEVENT
DTSTART;TZID=America/New_York:20261204T170000
DTEND;TZID=America/New_York:20261204T200000
DTSTAMP:20260425T155322
CREATED:20250401T152112Z
LAST-MODIFIED:20250710T163131Z
UID:10007389-1796403600-1796414400@smyrna.reformationbrewery.com
SUMMARY:Nothin' to Lose
DESCRIPTION:Live music\, cold beer\, and good vibes – what more could you need? Join us for great tunes and even better company!
URL:https://smyrna.reformationbrewery.com/event/nothin-to-lose-2/2026-12-04/
LOCATION:Reformation Brewery (Smyrna)\, 6255 RIVERVIEW ROAD BUILDING 4000\, SUITE 200\, Smyrna\, GA\, 30126\, United States
CATEGORIES:Smyrna,Music
ATTACH;FMTTYPE=image/png:https://smyrna.reformationbrewery.com/wp-content/uploads/sites/4/2025/04/FB-Event-Musician-Header.png
END:VEVENT
BEGIN:VEVENT
DTSTART;TZID=America/New_York:20261205T120000
DTEND;TZID=America/New_York:20261205T220000
DTSTAMP:20260425T155322
CREATED:20230726T164153Z
LAST-MODIFIED:20230726T165849Z
UID:10004980-1796472000-1796508000@smyrna.reformationbrewery.com
SUMMARY:Saturday Specials
DESCRIPTION:$6 Judemosas all day – every taproom
URL:https://smyrna.reformationbrewery.com/event/saturday-specials/2026-12-05/
LOCATION:Reformation Brewery (Smyrna)\, 6255 RIVERVIEW ROAD BUILDING 4000\, SUITE 200\, Smyrna\, GA\, 30126\, United States
ATTACH;FMTTYPE=image/png:https://smyrna.reformationbrewery.com/wp-content/uploads/sites/4/2023/07/Weekly-Specials-2-2.png
ORGANIZER;CN="Reformation Brewery":MAILTO:info@reformationbrewery.com
END:VEVENT
BEGIN:VEVENT
DTSTART;TZID=America/New_York:20261206T120000
DTEND;TZID=America/New_York:20261206T210000
DTSTAMP:20260425T155322
CREATED:20230706T215308Z
LAST-MODIFIED:20231107T231552Z
UID:10004456-1796558400-1796590800@smyrna.reformationbrewery.com
SUMMARY:Service Sundays
DESCRIPTION:Need a break from tending bar? Make Reformation your home away from home & kickoff your weekend with 25% OFF for Bar Staff & Beertenders on Sundays (all taprooms).
URL:https://smyrna.reformationbrewery.com/event/service-sundays/2026-12-06/
LOCATION:Reformation Brewery (Smyrna)\, 6255 RIVERVIEW ROAD BUILDING 4000\, SUITE 200\, Smyrna\, GA\, 30126\, United States
ATTACH;FMTTYPE=image/png:https://smyrna.reformationbrewery.com/wp-content/uploads/sites/4/2023/07/Weekly-Specials-2-1.png
ORGANIZER;CN="Reformation Brewery":MAILTO:info@reformationbrewery.com
END:VEVENT
BEGIN:VEVENT
DTSTART;TZID=America/New_York:20261206T180000
DTEND;TZID=America/New_York:20261206T200000
DTSTAMP:20260425T155322
CREATED:20230106T201053Z
LAST-MODIFIED:20240205T232609Z
UID:10005433-1796580000-1796587200@smyrna.reformationbrewery.com
SUMMARY:Trivia Night
DESCRIPTION:It’s trivia night! Gather your dream team and join us! Prizes for 1st\, 2nd\, and 3rd place!
URL:https://smyrna.reformationbrewery.com/event/trivia/2026-12-06/
LOCATION:Reformation Brewery (Smyrna)\, 6255 RIVERVIEW ROAD BUILDING 4000\, SUITE 200\, Smyrna\, GA\, 30126\, United States
ATTACH;FMTTYPE=image/jpeg:https://smyrna.reformationbrewery.com/wp-content/uploads/sites/4/2021/07/Trivia-Smyrna.jpeg
ORGANIZER;CN="Reformation Brewery":MAILTO:info@reformationbrewery.com
END:VEVENT
BEGIN:VEVENT
DTSTART;TZID=America/New_York:20261209T150000
DTEND;TZID=America/New_York:20261209T210000
DTSTAMP:20260425T155322
CREATED:20230706T173127Z
LAST-MODIFIED:20230801T233443Z
UID:10003417-1796828400-1796850000@smyrna.reformationbrewery.com
SUMMARY:Wednesday Specials
DESCRIPTION:Wednesdays are for celebrating! Stop by and let us pour you a HALF PRICE Jude at our Smyrna spot.
URL:https://smyrna.reformationbrewery.com/event/wednesday-specials/2026-12-09/
LOCATION:Reformation Brewery (Smyrna)\, 6255 RIVERVIEW ROAD BUILDING 4000\, SUITE 200\, Smyrna\, GA\, 30126\, United States
ATTACH;FMTTYPE=image/png:https://smyrna.reformationbrewery.com/wp-content/uploads/sites/4/2023/07/wed-smyrna.png
ORGANIZER;CN="Reformation Brewery":MAILTO:info@reformationbrewery.com
END:VEVENT
BEGIN:VEVENT
DTSTART;TZID=America/New_York:20261210T150000
DTEND;TZID=America/New_York:20261210T210000
DTSTAMP:20260425T155322
CREATED:20230706T200955Z
LAST-MODIFIED:20250408T162547Z
UID:10003937-1796914800-1796936400@smyrna.reformationbrewery.com
SUMMARY:Thirsty Thursday
DESCRIPTION:Come thirsty – leave with a growler full! Get $5 off when you BYOG (bring your own growler). Price varies by style.
URL:https://smyrna.reformationbrewery.com/event/thirsty-thursday/2026-12-10/
LOCATION:Reformation Brewery (Smyrna)\, 6255 RIVERVIEW ROAD BUILDING 4000\, SUITE 200\, Smyrna\, GA\, 30126\, United States
ATTACH;FMTTYPE=image/png:https://smyrna.reformationbrewery.com/wp-content/uploads/sites/4/2023/07/Weekly-Specials-2-3.png
ORGANIZER;CN="Reformation Brewery":MAILTO:info@reformationbrewery.com
END:VEVENT
BEGIN:VEVENT
DTSTART;TZID=America/New_York:20261210T190000
DTEND;TZID=America/New_York:20261210T210000
DTSTAMP:20260425T155322
CREATED:20241010T181055Z
LAST-MODIFIED:20241010T181055Z
UID:10002085-1796929200-1796936400@smyrna.reformationbrewery.com
SUMMARY:Music Bingo
DESCRIPTION:Come hang with us for Music Bingo! Brought to you by Lights Up Entertainment!
URL:https://smyrna.reformationbrewery.com/event/music-bingo-4-3/2026-12-10/
LOCATION:Reformation Brewery (Smyrna)\, 6255 RIVERVIEW ROAD BUILDING 4000\, SUITE 200\, Smyrna\, GA\, 30126\, United States
ATTACH;FMTTYPE=image/png:https://smyrna.reformationbrewery.com/wp-content/uploads/sites/4/2023/01/13.png
ORGANIZER;CN="Reformation Brewery":MAILTO:info@reformationbrewery.com
END:VEVENT
BEGIN:VEVENT
DTSTART;TZID=America/New_York:20261211T120000
DTEND;TZID=America/New_York:20261211T220000
DTSTAMP:20260425T155322
CREATED:20230706T213611Z
LAST-MODIFIED:20240327T195516Z
UID:10004198-1796990400-1797026400@smyrna.reformationbrewery.com
SUMMARY:Friday Flights
DESCRIPTION:Take a flight to Reformation\, and see where you end up! Stop by for 4oz pours of new or tried & tested favorites with friends. Just $8 in Canton & Woodstock until 2pm and all day in Smyrna.
URL:https://smyrna.reformationbrewery.com/event/friday-flights/2026-12-11/
LOCATION:Reformation Brewery (Smyrna)\, 6255 RIVERVIEW ROAD BUILDING 4000\, SUITE 200\, Smyrna\, GA\, 30126\, United States
ATTACH;FMTTYPE=image/png:https://smyrna.reformationbrewery.com/wp-content/uploads/sites/4/2023/07/9.png
ORGANIZER;CN="Reformation Brewery":MAILTO:info@reformationbrewery.com
END:VEVENT
BEGIN:VEVENT
DTSTART;TZID=America/New_York:20261212T120000
DTEND;TZID=America/New_York:20261212T220000
DTSTAMP:20260425T155322
CREATED:20230726T164153Z
LAST-MODIFIED:20230726T165849Z
UID:10004981-1797076800-1797112800@smyrna.reformationbrewery.com
SUMMARY:Saturday Specials
DESCRIPTION:$6 Judemosas all day – every taproom
URL:https://smyrna.reformationbrewery.com/event/saturday-specials/2026-12-12/
LOCATION:Reformation Brewery (Smyrna)\, 6255 RIVERVIEW ROAD BUILDING 4000\, SUITE 200\, Smyrna\, GA\, 30126\, United States
ATTACH;FMTTYPE=image/png:https://smyrna.reformationbrewery.com/wp-content/uploads/sites/4/2023/07/Weekly-Specials-2-2.png
ORGANIZER;CN="Reformation Brewery":MAILTO:info@reformationbrewery.com
END:VEVENT
BEGIN:VEVENT
DTSTART;TZID=America/New_York:20261213T120000
DTEND;TZID=America/New_York:20261213T210000
DTSTAMP:20260425T155322
CREATED:20230706T215308Z
LAST-MODIFIED:20231107T231552Z
UID:10004457-1797163200-1797195600@smyrna.reformationbrewery.com
SUMMARY:Service Sundays
DESCRIPTION:Need a break from tending bar? Make Reformation your home away from home & kickoff your weekend with 25% OFF for Bar Staff & Beertenders on Sundays (all taprooms).
URL:https://smyrna.reformationbrewery.com/event/service-sundays/2026-12-13/
LOCATION:Reformation Brewery (Smyrna)\, 6255 RIVERVIEW ROAD BUILDING 4000\, SUITE 200\, Smyrna\, GA\, 30126\, United States
ATTACH;FMTTYPE=image/png:https://smyrna.reformationbrewery.com/wp-content/uploads/sites/4/2023/07/Weekly-Specials-2-1.png
ORGANIZER;CN="Reformation Brewery":MAILTO:info@reformationbrewery.com
END:VEVENT
BEGIN:VEVENT
DTSTART;TZID=America/New_York:20261213T180000
DTEND;TZID=America/New_York:20261213T200000
DTSTAMP:20260425T155322
CREATED:20230106T201053Z
LAST-MODIFIED:20240205T232609Z
UID:10005434-1797184800-1797192000@smyrna.reformationbrewery.com
SUMMARY:Trivia Night
DESCRIPTION:It’s trivia night! Gather your dream team and join us! Prizes for 1st\, 2nd\, and 3rd place!
URL:https://smyrna.reformationbrewery.com/event/trivia/2026-12-13/
LOCATION:Reformation Brewery (Smyrna)\, 6255 RIVERVIEW ROAD BUILDING 4000\, SUITE 200\, Smyrna\, GA\, 30126\, United States
ATTACH;FMTTYPE=image/jpeg:https://smyrna.reformationbrewery.com/wp-content/uploads/sites/4/2021/07/Trivia-Smyrna.jpeg
ORGANIZER;CN="Reformation Brewery":MAILTO:info@reformationbrewery.com
END:VEVENT
BEGIN:VEVENT
DTSTART;TZID=America/New_York:20261216T150000
DTEND;TZID=America/New_York:20261216T210000
DTSTAMP:20260425T155322
CREATED:20230706T173127Z
LAST-MODIFIED:20230801T233443Z
UID:10003418-1797433200-1797454800@smyrna.reformationbrewery.com
SUMMARY:Wednesday Specials
DESCRIPTION:Wednesdays are for celebrating! Stop by and let us pour you a HALF PRICE Jude at our Smyrna spot.
URL:https://smyrna.reformationbrewery.com/event/wednesday-specials/2026-12-16/
LOCATION:Reformation Brewery (Smyrna)\, 6255 RIVERVIEW ROAD BUILDING 4000\, SUITE 200\, Smyrna\, GA\, 30126\, United States
ATTACH;FMTTYPE=image/png:https://smyrna.reformationbrewery.com/wp-content/uploads/sites/4/2023/07/wed-smyrna.png
ORGANIZER;CN="Reformation Brewery":MAILTO:info@reformationbrewery.com
END:VEVENT
BEGIN:VEVENT
DTSTART;TZID=America/New_York:20261217T150000
DTEND;TZID=America/New_York:20261217T210000
DTSTAMP:20260425T155322
CREATED:20230706T200955Z
LAST-MODIFIED:20250408T162547Z
UID:10003938-1797519600-1797541200@smyrna.reformationbrewery.com
SUMMARY:Thirsty Thursday
DESCRIPTION:Come thirsty – leave with a growler full! Get $5 off when you BYOG (bring your own growler). Price varies by style.
URL:https://smyrna.reformationbrewery.com/event/thirsty-thursday/2026-12-17/
LOCATION:Reformation Brewery (Smyrna)\, 6255 RIVERVIEW ROAD BUILDING 4000\, SUITE 200\, Smyrna\, GA\, 30126\, United States
ATTACH;FMTTYPE=image/png:https://smyrna.reformationbrewery.com/wp-content/uploads/sites/4/2023/07/Weekly-Specials-2-3.png
ORGANIZER;CN="Reformation Brewery":MAILTO:info@reformationbrewery.com
END:VEVENT
BEGIN:VEVENT
DTSTART;TZID=America/New_York:20261217T190000
DTEND;TZID=America/New_York:20261217T210000
DTSTAMP:20260425T155322
CREATED:20241010T181055Z
LAST-MODIFIED:20241010T181055Z
UID:10002086-1797534000-1797541200@smyrna.reformationbrewery.com
SUMMARY:Music Bingo
DESCRIPTION:Come hang with us for Music Bingo! Brought to you by Lights Up Entertainment!
URL:https://smyrna.reformationbrewery.com/event/music-bingo-4-3/2026-12-17/
LOCATION:Reformation Brewery (Smyrna)\, 6255 RIVERVIEW ROAD BUILDING 4000\, SUITE 200\, Smyrna\, GA\, 30126\, United States
ATTACH;FMTTYPE=image/png:https://smyrna.reformationbrewery.com/wp-content/uploads/sites/4/2023/01/13.png
ORGANIZER;CN="Reformation Brewery":MAILTO:info@reformationbrewery.com
END:VEVENT
BEGIN:VEVENT
DTSTART;TZID=America/New_York:20261218T120000
DTEND;TZID=America/New_York:20261218T220000
DTSTAMP:20260425T155322
CREATED:20230706T213611Z
LAST-MODIFIED:20240327T195516Z
UID:10004199-1797595200-1797631200@smyrna.reformationbrewery.com
SUMMARY:Friday Flights
DESCRIPTION:Take a flight to Reformation\, and see where you end up! Stop by for 4oz pours of new or tried & tested favorites with friends. Just $8 in Canton & Woodstock until 2pm and all day in Smyrna.
URL:https://smyrna.reformationbrewery.com/event/friday-flights/2026-12-18/
LOCATION:Reformation Brewery (Smyrna)\, 6255 RIVERVIEW ROAD BUILDING 4000\, SUITE 200\, Smyrna\, GA\, 30126\, United States
ATTACH;FMTTYPE=image/png:https://smyrna.reformationbrewery.com/wp-content/uploads/sites/4/2023/07/9.png
ORGANIZER;CN="Reformation Brewery":MAILTO:info@reformationbrewery.com
END:VEVENT
BEGIN:VEVENT
DTSTART;TZID=America/New_York:20261219T120000
DTEND;TZID=America/New_York:20261219T220000
DTSTAMP:20260425T155322
CREATED:20230726T164153Z
LAST-MODIFIED:20230726T165849Z
UID:10004982-1797681600-1797717600@smyrna.reformationbrewery.com
SUMMARY:Saturday Specials
DESCRIPTION:$6 Judemosas all day – every taproom
URL:https://smyrna.reformationbrewery.com/event/saturday-specials/2026-12-19/
LOCATION:Reformation Brewery (Smyrna)\, 6255 RIVERVIEW ROAD BUILDING 4000\, SUITE 200\, Smyrna\, GA\, 30126\, United States
ATTACH;FMTTYPE=image/png:https://smyrna.reformationbrewery.com/wp-content/uploads/sites/4/2023/07/Weekly-Specials-2-2.png
ORGANIZER;CN="Reformation Brewery":MAILTO:info@reformationbrewery.com
END:VEVENT
BEGIN:VEVENT
DTSTART;TZID=America/New_York:20261220T120000
DTEND;TZID=America/New_York:20261220T210000
DTSTAMP:20260425T155322
CREATED:20230706T215308Z
LAST-MODIFIED:20231107T231552Z
UID:10004458-1797768000-1797800400@smyrna.reformationbrewery.com
SUMMARY:Service Sundays
DESCRIPTION:Need a break from tending bar? Make Reformation your home away from home & kickoff your weekend with 25% OFF for Bar Staff & Beertenders on Sundays (all taprooms).
URL:https://smyrna.reformationbrewery.com/event/service-sundays/2026-12-20/
LOCATION:Reformation Brewery (Smyrna)\, 6255 RIVERVIEW ROAD BUILDING 4000\, SUITE 200\, Smyrna\, GA\, 30126\, United States
ATTACH;FMTTYPE=image/png:https://smyrna.reformationbrewery.com/wp-content/uploads/sites/4/2023/07/Weekly-Specials-2-1.png
ORGANIZER;CN="Reformation Brewery":MAILTO:info@reformationbrewery.com
END:VEVENT
BEGIN:VEVENT
DTSTART;TZID=America/New_York:20261220T180000
DTEND;TZID=America/New_York:20261220T200000
DTSTAMP:20260425T155322
CREATED:20230106T201053Z
LAST-MODIFIED:20240205T232609Z
UID:10005435-1797789600-1797796800@smyrna.reformationbrewery.com
SUMMARY:Trivia Night
DESCRIPTION:It’s trivia night! Gather your dream team and join us! Prizes for 1st\, 2nd\, and 3rd place!
URL:https://smyrna.reformationbrewery.com/event/trivia/2026-12-20/
LOCATION:Reformation Brewery (Smyrna)\, 6255 RIVERVIEW ROAD BUILDING 4000\, SUITE 200\, Smyrna\, GA\, 30126\, United States
ATTACH;FMTTYPE=image/jpeg:https://smyrna.reformationbrewery.com/wp-content/uploads/sites/4/2021/07/Trivia-Smyrna.jpeg
ORGANIZER;CN="Reformation Brewery":MAILTO:info@reformationbrewery.com
END:VEVENT
BEGIN:VEVENT
DTSTART;TZID=America/New_York:20261223T150000
DTEND;TZID=America/New_York:20261223T210000
DTSTAMP:20260425T155322
CREATED:20230706T173127Z
LAST-MODIFIED:20230801T233443Z
UID:10003419-1798038000-1798059600@smyrna.reformationbrewery.com
SUMMARY:Wednesday Specials
DESCRIPTION:Wednesdays are for celebrating! Stop by and let us pour you a HALF PRICE Jude at our Smyrna spot.
URL:https://smyrna.reformationbrewery.com/event/wednesday-specials/2026-12-23/
LOCATION:Reformation Brewery (Smyrna)\, 6255 RIVERVIEW ROAD BUILDING 4000\, SUITE 200\, Smyrna\, GA\, 30126\, United States
ATTACH;FMTTYPE=image/png:https://smyrna.reformationbrewery.com/wp-content/uploads/sites/4/2023/07/wed-smyrna.png
ORGANIZER;CN="Reformation Brewery":MAILTO:info@reformationbrewery.com
END:VEVENT
BEGIN:VEVENT
DTSTART;TZID=America/New_York:20261224T150000
DTEND;TZID=America/New_York:20261224T210000
DTSTAMP:20260425T155322
CREATED:20230706T200955Z
LAST-MODIFIED:20250408T162547Z
UID:10003939-1798124400-1798146000@smyrna.reformationbrewery.com
SUMMARY:Thirsty Thursday
DESCRIPTION:Come thirsty – leave with a growler full! Get $5 off when you BYOG (bring your own growler). Price varies by style.
URL:https://smyrna.reformationbrewery.com/event/thirsty-thursday/2026-12-24/
LOCATION:Reformation Brewery (Smyrna)\, 6255 RIVERVIEW ROAD BUILDING 4000\, SUITE 200\, Smyrna\, GA\, 30126\, United States
ATTACH;FMTTYPE=image/png:https://smyrna.reformationbrewery.com/wp-content/uploads/sites/4/2023/07/Weekly-Specials-2-3.png
ORGANIZER;CN="Reformation Brewery":MAILTO:info@reformationbrewery.com
END:VEVENT
BEGIN:VEVENT
DTSTART;TZID=America/New_York:20261224T190000
DTEND;TZID=America/New_York:20261224T210000
DTSTAMP:20260425T155322
CREATED:20241010T181055Z
LAST-MODIFIED:20241010T181055Z
UID:10002087-1798138800-1798146000@smyrna.reformationbrewery.com
SUMMARY:Music Bingo
DESCRIPTION:Come hang with us for Music Bingo! Brought to you by Lights Up Entertainment!
URL:https://smyrna.reformationbrewery.com/event/music-bingo-4-3/2026-12-24/
LOCATION:Reformation Brewery (Smyrna)\, 6255 RIVERVIEW ROAD BUILDING 4000\, SUITE 200\, Smyrna\, GA\, 30126\, United States
ATTACH;FMTTYPE=image/png:https://smyrna.reformationbrewery.com/wp-content/uploads/sites/4/2023/01/13.png
ORGANIZER;CN="Reformation Brewery":MAILTO:info@reformationbrewery.com
END:VEVENT
BEGIN:VEVENT
DTSTART;TZID=America/New_York:20261225T120000
DTEND;TZID=America/New_York:20261225T220000
DTSTAMP:20260425T155322
CREATED:20230706T213611Z
LAST-MODIFIED:20240327T195516Z
UID:10004200-1798200000-1798236000@smyrna.reformationbrewery.com
SUMMARY:Friday Flights
DESCRIPTION:Take a flight to Reformation\, and see where you end up! Stop by for 4oz pours of new or tried & tested favorites with friends. Just $8 in Canton & Woodstock until 2pm and all day in Smyrna.
URL:https://smyrna.reformationbrewery.com/event/friday-flights/2026-12-25/
LOCATION:Reformation Brewery (Smyrna)\, 6255 RIVERVIEW ROAD BUILDING 4000\, SUITE 200\, Smyrna\, GA\, 30126\, United States
ATTACH;FMTTYPE=image/png:https://smyrna.reformationbrewery.com/wp-content/uploads/sites/4/2023/07/9.png
ORGANIZER;CN="Reformation Brewery":MAILTO:info@reformationbrewery.com
END:VEVENT
BEGIN:VEVENT
DTSTART;TZID=America/New_York:20261226T120000
DTEND;TZID=America/New_York:20261226T220000
DTSTAMP:20260425T155322
CREATED:20230726T164153Z
LAST-MODIFIED:20230726T165849Z
UID:10004983-1798286400-1798322400@smyrna.reformationbrewery.com
SUMMARY:Saturday Specials
DESCRIPTION:$6 Judemosas all day – every taproom
URL:https://smyrna.reformationbrewery.com/event/saturday-specials/2026-12-26/
LOCATION:Reformation Brewery (Smyrna)\, 6255 RIVERVIEW ROAD BUILDING 4000\, SUITE 200\, Smyrna\, GA\, 30126\, United States
ATTACH;FMTTYPE=image/png:https://smyrna.reformationbrewery.com/wp-content/uploads/sites/4/2023/07/Weekly-Specials-2-2.png
ORGANIZER;CN="Reformation Brewery":MAILTO:info@reformationbrewery.com
END:VEVENT
BEGIN:VEVENT
DTSTART;TZID=America/New_York:20261227T120000
DTEND;TZID=America/New_York:20261227T210000
DTSTAMP:20260425T155322
CREATED:20230706T215308Z
LAST-MODIFIED:20231107T231552Z
UID:10004459-1798372800-1798405200@smyrna.reformationbrewery.com
SUMMARY:Service Sundays
DESCRIPTION:Need a break from tending bar? Make Reformation your home away from home & kickoff your weekend with 25% OFF for Bar Staff & Beertenders on Sundays (all taprooms).
URL:https://smyrna.reformationbrewery.com/event/service-sundays/2026-12-27/
LOCATION:Reformation Brewery (Smyrna)\, 6255 RIVERVIEW ROAD BUILDING 4000\, SUITE 200\, Smyrna\, GA\, 30126\, United States
ATTACH;FMTTYPE=image/png:https://smyrna.reformationbrewery.com/wp-content/uploads/sites/4/2023/07/Weekly-Specials-2-1.png
ORGANIZER;CN="Reformation Brewery":MAILTO:info@reformationbrewery.com
END:VEVENT
BEGIN:VEVENT
DTSTART;TZID=America/New_York:20261227T180000
DTEND;TZID=America/New_York:20261227T200000
DTSTAMP:20260425T155322
CREATED:20230106T201053Z
LAST-MODIFIED:20240205T232609Z
UID:10005436-1798394400-1798401600@smyrna.reformationbrewery.com
SUMMARY:Trivia Night
DESCRIPTION:It’s trivia night! Gather your dream team and join us! Prizes for 1st\, 2nd\, and 3rd place!
URL:https://smyrna.reformationbrewery.com/event/trivia/2026-12-27/
LOCATION:Reformation Brewery (Smyrna)\, 6255 RIVERVIEW ROAD BUILDING 4000\, SUITE 200\, Smyrna\, GA\, 30126\, United States
ATTACH;FMTTYPE=image/jpeg:https://smyrna.reformationbrewery.com/wp-content/uploads/sites/4/2021/07/Trivia-Smyrna.jpeg
ORGANIZER;CN="Reformation Brewery":MAILTO:info@reformationbrewery.com
END:VEVENT
BEGIN:VEVENT
DTSTART;TZID=America/New_York:20261230T150000
DTEND;TZID=America/New_York:20261230T210000
DTSTAMP:20260425T155322
CREATED:20230706T173127Z
LAST-MODIFIED:20230801T233443Z
UID:10003420-1798642800-1798664400@smyrna.reformationbrewery.com
SUMMARY:Wednesday Specials
DESCRIPTION:Wednesdays are for celebrating! Stop by and let us pour you a HALF PRICE Jude at our Smyrna spot.
URL:https://smyrna.reformationbrewery.com/event/wednesday-specials/2026-12-30/
LOCATION:Reformation Brewery (Smyrna)\, 6255 RIVERVIEW ROAD BUILDING 4000\, SUITE 200\, Smyrna\, GA\, 30126\, United States
ATTACH;FMTTYPE=image/png:https://smyrna.reformationbrewery.com/wp-content/uploads/sites/4/2023/07/wed-smyrna.png
ORGANIZER;CN="Reformation Brewery":MAILTO:info@reformationbrewery.com
END:VEVENT
BEGIN:VEVENT
DTSTART;TZID=America/New_York:20261231T150000
DTEND;TZID=America/New_York:20261231T210000
DTSTAMP:20260425T155322
CREATED:20230706T200955Z
LAST-MODIFIED:20250408T162547Z
UID:10003940-1798729200-1798750800@smyrna.reformationbrewery.com
SUMMARY:Thirsty Thursday
DESCRIPTION:Come thirsty – leave with a growler full! Get $5 off when you BYOG (bring your own growler). Price varies by style.
URL:https://smyrna.reformationbrewery.com/event/thirsty-thursday/2026-12-31/
LOCATION:Reformation Brewery (Smyrna)\, 6255 RIVERVIEW ROAD BUILDING 4000\, SUITE 200\, Smyrna\, GA\, 30126\, United States
ATTACH;FMTTYPE=image/png:https://smyrna.reformationbrewery.com/wp-content/uploads/sites/4/2023/07/Weekly-Specials-2-3.png
ORGANIZER;CN="Reformation Brewery":MAILTO:info@reformationbrewery.com
END:VEVENT
END:VCALENDAR