BEGIN:VCALENDAR
VERSION:2.0
PRODID:-//Smyrna - ECPv6.15.20//NONSGML v1.0//EN
CALSCALE:GREGORIAN
METHOD:PUBLISH
X-ORIGINAL-URL:https://smyrna.reformationbrewery.com
X-WR-CALDESC:Events for Smyrna
REFRESH-INTERVAL;VALUE=DURATION:PT1H
X-Robots-Tag:noindex
X-PUBLISHED-TTL:PT1H
BEGIN:VTIMEZONE
TZID:America/New_York
BEGIN:DAYLIGHT
TZOFFSETFROM:-0500
TZOFFSETTO:-0400
TZNAME:EDT
DTSTART:20260308T070000
END:DAYLIGHT
BEGIN:STANDARD
TZOFFSETFROM:-0400
TZOFFSETTO:-0500
TZNAME:EST
DTSTART:20261101T060000
END:STANDARD
BEGIN:DAYLIGHT
TZOFFSETFROM:-0500
TZOFFSETTO:-0400
TZNAME:EDT
DTSTART:20270314T070000
END:DAYLIGHT
BEGIN:STANDARD
TZOFFSETFROM:-0400
TZOFFSETTO:-0500
TZNAME:EST
DTSTART:20271107T060000
END:STANDARD
BEGIN:DAYLIGHT
TZOFFSETFROM:-0500
TZOFFSETTO:-0400
TZNAME:EDT
DTSTART:20280312T070000
END:DAYLIGHT
BEGIN:STANDARD
TZOFFSETFROM:-0400
TZOFFSETTO:-0500
TZNAME:EST
DTSTART:20281105T060000
END:STANDARD
END:VTIMEZONE
BEGIN:VEVENT
DTSTART;TZID=America/New_York:20270106T150000
DTEND;TZID=America/New_York:20270106T210000
DTSTAMP:20260425T200253
CREATED:20230706T173127Z
LAST-MODIFIED:20230801T233443Z
UID:10003421-1799247600-1799269200@smyrna.reformationbrewery.com
SUMMARY:Wednesday Specials
DESCRIPTION:Wednesdays are for celebrating! Stop by and let us pour you a HALF PRICE Jude at our Smyrna spot.
URL:https://smyrna.reformationbrewery.com/event/wednesday-specials/2027-01-06/
LOCATION:Reformation Brewery (Smyrna)\, 6255 RIVERVIEW ROAD BUILDING 4000\, SUITE 200\, Smyrna\, GA\, 30126\, United States
ATTACH;FMTTYPE=image/png:https://smyrna.reformationbrewery.com/wp-content/uploads/sites/4/2023/07/wed-smyrna.png
ORGANIZER;CN="Reformation Brewery":MAILTO:info@reformationbrewery.com
END:VEVENT
BEGIN:VEVENT
DTSTART;TZID=America/New_York:20270107T150000
DTEND;TZID=America/New_York:20270107T210000
DTSTAMP:20260425T200253
CREATED:20230706T200955Z
LAST-MODIFIED:20250408T162547Z
UID:10003941-1799334000-1799355600@smyrna.reformationbrewery.com
SUMMARY:Thirsty Thursday
DESCRIPTION:Come thirsty – leave with a growler full! Get $5 off when you BYOG (bring your own growler). Price varies by style.
URL:https://smyrna.reformationbrewery.com/event/thirsty-thursday/2027-01-07/
LOCATION:Reformation Brewery (Smyrna)\, 6255 RIVERVIEW ROAD BUILDING 4000\, SUITE 200\, Smyrna\, GA\, 30126\, United States
ATTACH;FMTTYPE=image/png:https://smyrna.reformationbrewery.com/wp-content/uploads/sites/4/2023/07/Weekly-Specials-2-3.png
ORGANIZER;CN="Reformation Brewery":MAILTO:info@reformationbrewery.com
END:VEVENT
BEGIN:VEVENT
DTSTART;TZID=America/New_York:20270107T190000
DTEND;TZID=America/New_York:20270107T210000
DTSTAMP:20260425T200253
CREATED:20241010T181055Z
LAST-MODIFIED:20241010T181055Z
UID:10002089-1799348400-1799355600@smyrna.reformationbrewery.com
SUMMARY:Music Bingo
DESCRIPTION:Come hang with us for Music Bingo! Brought to you by Lights Up Entertainment!
URL:https://smyrna.reformationbrewery.com/event/music-bingo-4-3/2027-01-07/
LOCATION:Reformation Brewery (Smyrna)\, 6255 RIVERVIEW ROAD BUILDING 4000\, SUITE 200\, Smyrna\, GA\, 30126\, United States
ATTACH;FMTTYPE=image/png:https://smyrna.reformationbrewery.com/wp-content/uploads/sites/4/2023/01/13.png
ORGANIZER;CN="Reformation Brewery":MAILTO:info@reformationbrewery.com
END:VEVENT
BEGIN:VEVENT
DTSTART;TZID=America/New_York:20270108T120000
DTEND;TZID=America/New_York:20270108T220000
DTSTAMP:20260425T200253
CREATED:20230706T213611Z
LAST-MODIFIED:20240327T195516Z
UID:10004202-1799409600-1799445600@smyrna.reformationbrewery.com
SUMMARY:Friday Flights
DESCRIPTION:Take a flight to Reformation\, and see where you end up! Stop by for 4oz pours of new or tried & tested favorites with friends. Just $8 in Canton & Woodstock until 2pm and all day in Smyrna.
URL:https://smyrna.reformationbrewery.com/event/friday-flights/2027-01-08/
LOCATION:Reformation Brewery (Smyrna)\, 6255 RIVERVIEW ROAD BUILDING 4000\, SUITE 200\, Smyrna\, GA\, 30126\, United States
ATTACH;FMTTYPE=image/png:https://smyrna.reformationbrewery.com/wp-content/uploads/sites/4/2023/07/9.png
ORGANIZER;CN="Reformation Brewery":MAILTO:info@reformationbrewery.com
END:VEVENT
BEGIN:VEVENT
DTSTART;TZID=America/New_York:20270109T120000
DTEND;TZID=America/New_York:20270109T220000
DTSTAMP:20260425T200253
CREATED:20230726T164153Z
LAST-MODIFIED:20230726T165849Z
UID:10004985-1799496000-1799532000@smyrna.reformationbrewery.com
SUMMARY:Saturday Specials
DESCRIPTION:$6 Judemosas all day – every taproom
URL:https://smyrna.reformationbrewery.com/event/saturday-specials/2027-01-09/
LOCATION:Reformation Brewery (Smyrna)\, 6255 RIVERVIEW ROAD BUILDING 4000\, SUITE 200\, Smyrna\, GA\, 30126\, United States
ATTACH;FMTTYPE=image/png:https://smyrna.reformationbrewery.com/wp-content/uploads/sites/4/2023/07/Weekly-Specials-2-2.png
ORGANIZER;CN="Reformation Brewery":MAILTO:info@reformationbrewery.com
END:VEVENT
BEGIN:VEVENT
DTSTART;TZID=America/New_York:20270110T120000
DTEND;TZID=America/New_York:20270110T210000
DTSTAMP:20260425T200253
CREATED:20230706T215308Z
LAST-MODIFIED:20231107T231552Z
UID:10004461-1799582400-1799614800@smyrna.reformationbrewery.com
SUMMARY:Service Sundays
DESCRIPTION:Need a break from tending bar? Make Reformation your home away from home & kickoff your weekend with 25% OFF for Bar Staff & Beertenders on Sundays (all taprooms).
URL:https://smyrna.reformationbrewery.com/event/service-sundays/2027-01-10/
LOCATION:Reformation Brewery (Smyrna)\, 6255 RIVERVIEW ROAD BUILDING 4000\, SUITE 200\, Smyrna\, GA\, 30126\, United States
ATTACH;FMTTYPE=image/png:https://smyrna.reformationbrewery.com/wp-content/uploads/sites/4/2023/07/Weekly-Specials-2-1.png
ORGANIZER;CN="Reformation Brewery":MAILTO:info@reformationbrewery.com
END:VEVENT
BEGIN:VEVENT
DTSTART;TZID=America/New_York:20270110T180000
DTEND;TZID=America/New_York:20270110T200000
DTSTAMP:20260425T200253
CREATED:20230106T201053Z
LAST-MODIFIED:20240205T232609Z
UID:10005438-1799604000-1799611200@smyrna.reformationbrewery.com
SUMMARY:Trivia Night
DESCRIPTION:It’s trivia night! Gather your dream team and join us! Prizes for 1st\, 2nd\, and 3rd place!
URL:https://smyrna.reformationbrewery.com/event/trivia/2027-01-10/
LOCATION:Reformation Brewery (Smyrna)\, 6255 RIVERVIEW ROAD BUILDING 4000\, SUITE 200\, Smyrna\, GA\, 30126\, United States
ATTACH;FMTTYPE=image/jpeg:https://smyrna.reformationbrewery.com/wp-content/uploads/sites/4/2021/07/Trivia-Smyrna.jpeg
ORGANIZER;CN="Reformation Brewery":MAILTO:info@reformationbrewery.com
END:VEVENT
BEGIN:VEVENT
DTSTART;TZID=America/New_York:20270113T150000
DTEND;TZID=America/New_York:20270113T210000
DTSTAMP:20260425T200253
CREATED:20230706T173127Z
LAST-MODIFIED:20230801T233443Z
UID:10003422-1799852400-1799874000@smyrna.reformationbrewery.com
SUMMARY:Wednesday Specials
DESCRIPTION:Wednesdays are for celebrating! Stop by and let us pour you a HALF PRICE Jude at our Smyrna spot.
URL:https://smyrna.reformationbrewery.com/event/wednesday-specials/2027-01-13/
LOCATION:Reformation Brewery (Smyrna)\, 6255 RIVERVIEW ROAD BUILDING 4000\, SUITE 200\, Smyrna\, GA\, 30126\, United States
ATTACH;FMTTYPE=image/png:https://smyrna.reformationbrewery.com/wp-content/uploads/sites/4/2023/07/wed-smyrna.png
ORGANIZER;CN="Reformation Brewery":MAILTO:info@reformationbrewery.com
END:VEVENT
BEGIN:VEVENT
DTSTART;TZID=America/New_York:20270114T150000
DTEND;TZID=America/New_York:20270114T210000
DTSTAMP:20260425T200253
CREATED:20230706T200955Z
LAST-MODIFIED:20250408T162547Z
UID:10003942-1799938800-1799960400@smyrna.reformationbrewery.com
SUMMARY:Thirsty Thursday
DESCRIPTION:Come thirsty – leave with a growler full! Get $5 off when you BYOG (bring your own growler). Price varies by style.
URL:https://smyrna.reformationbrewery.com/event/thirsty-thursday/2027-01-14/
LOCATION:Reformation Brewery (Smyrna)\, 6255 RIVERVIEW ROAD BUILDING 4000\, SUITE 200\, Smyrna\, GA\, 30126\, United States
ATTACH;FMTTYPE=image/png:https://smyrna.reformationbrewery.com/wp-content/uploads/sites/4/2023/07/Weekly-Specials-2-3.png
ORGANIZER;CN="Reformation Brewery":MAILTO:info@reformationbrewery.com
END:VEVENT
BEGIN:VEVENT
DTSTART;TZID=America/New_York:20270114T190000
DTEND;TZID=America/New_York:20270114T210000
DTSTAMP:20260425T200253
CREATED:20241010T181055Z
LAST-MODIFIED:20241010T181055Z
UID:10002090-1799953200-1799960400@smyrna.reformationbrewery.com
SUMMARY:Music Bingo
DESCRIPTION:Come hang with us for Music Bingo! Brought to you by Lights Up Entertainment!
URL:https://smyrna.reformationbrewery.com/event/music-bingo-4-3/2027-01-14/
LOCATION:Reformation Brewery (Smyrna)\, 6255 RIVERVIEW ROAD BUILDING 4000\, SUITE 200\, Smyrna\, GA\, 30126\, United States
ATTACH;FMTTYPE=image/png:https://smyrna.reformationbrewery.com/wp-content/uploads/sites/4/2023/01/13.png
ORGANIZER;CN="Reformation Brewery":MAILTO:info@reformationbrewery.com
END:VEVENT
BEGIN:VEVENT
DTSTART;TZID=America/New_York:20270115T120000
DTEND;TZID=America/New_York:20270115T220000
DTSTAMP:20260425T200253
CREATED:20230706T213611Z
LAST-MODIFIED:20240327T195516Z
UID:10004203-1800014400-1800050400@smyrna.reformationbrewery.com
SUMMARY:Friday Flights
DESCRIPTION:Take a flight to Reformation\, and see where you end up! Stop by for 4oz pours of new or tried & tested favorites with friends. Just $8 in Canton & Woodstock until 2pm and all day in Smyrna.
URL:https://smyrna.reformationbrewery.com/event/friday-flights/2027-01-15/
LOCATION:Reformation Brewery (Smyrna)\, 6255 RIVERVIEW ROAD BUILDING 4000\, SUITE 200\, Smyrna\, GA\, 30126\, United States
ATTACH;FMTTYPE=image/png:https://smyrna.reformationbrewery.com/wp-content/uploads/sites/4/2023/07/9.png
ORGANIZER;CN="Reformation Brewery":MAILTO:info@reformationbrewery.com
END:VEVENT
BEGIN:VEVENT
DTSTART;TZID=America/New_York:20270116T120000
DTEND;TZID=America/New_York:20270116T220000
DTSTAMP:20260425T200253
CREATED:20230726T164153Z
LAST-MODIFIED:20230726T165849Z
UID:10004986-1800100800-1800136800@smyrna.reformationbrewery.com
SUMMARY:Saturday Specials
DESCRIPTION:$6 Judemosas all day – every taproom
URL:https://smyrna.reformationbrewery.com/event/saturday-specials/2027-01-16/
LOCATION:Reformation Brewery (Smyrna)\, 6255 RIVERVIEW ROAD BUILDING 4000\, SUITE 200\, Smyrna\, GA\, 30126\, United States
ATTACH;FMTTYPE=image/png:https://smyrna.reformationbrewery.com/wp-content/uploads/sites/4/2023/07/Weekly-Specials-2-2.png
ORGANIZER;CN="Reformation Brewery":MAILTO:info@reformationbrewery.com
END:VEVENT
BEGIN:VEVENT
DTSTART;TZID=America/New_York:20270117T120000
DTEND;TZID=America/New_York:20270117T210000
DTSTAMP:20260425T200253
CREATED:20230706T215308Z
LAST-MODIFIED:20231107T231552Z
UID:10004462-1800187200-1800219600@smyrna.reformationbrewery.com
SUMMARY:Service Sundays
DESCRIPTION:Need a break from tending bar? Make Reformation your home away from home & kickoff your weekend with 25% OFF for Bar Staff & Beertenders on Sundays (all taprooms).
URL:https://smyrna.reformationbrewery.com/event/service-sundays/2027-01-17/
LOCATION:Reformation Brewery (Smyrna)\, 6255 RIVERVIEW ROAD BUILDING 4000\, SUITE 200\, Smyrna\, GA\, 30126\, United States
ATTACH;FMTTYPE=image/png:https://smyrna.reformationbrewery.com/wp-content/uploads/sites/4/2023/07/Weekly-Specials-2-1.png
ORGANIZER;CN="Reformation Brewery":MAILTO:info@reformationbrewery.com
END:VEVENT
BEGIN:VEVENT
DTSTART;TZID=America/New_York:20270117T180000
DTEND;TZID=America/New_York:20270117T200000
DTSTAMP:20260425T200253
CREATED:20230106T201053Z
LAST-MODIFIED:20240205T232609Z
UID:10005439-1800208800-1800216000@smyrna.reformationbrewery.com
SUMMARY:Trivia Night
DESCRIPTION:It’s trivia night! Gather your dream team and join us! Prizes for 1st\, 2nd\, and 3rd place!
URL:https://smyrna.reformationbrewery.com/event/trivia/2027-01-17/
LOCATION:Reformation Brewery (Smyrna)\, 6255 RIVERVIEW ROAD BUILDING 4000\, SUITE 200\, Smyrna\, GA\, 30126\, United States
ATTACH;FMTTYPE=image/jpeg:https://smyrna.reformationbrewery.com/wp-content/uploads/sites/4/2021/07/Trivia-Smyrna.jpeg
ORGANIZER;CN="Reformation Brewery":MAILTO:info@reformationbrewery.com
END:VEVENT
BEGIN:VEVENT
DTSTART;TZID=America/New_York:20270120T150000
DTEND;TZID=America/New_York:20270120T210000
DTSTAMP:20260425T200253
CREATED:20230706T173127Z
LAST-MODIFIED:20230801T233443Z
UID:10003423-1800457200-1800478800@smyrna.reformationbrewery.com
SUMMARY:Wednesday Specials
DESCRIPTION:Wednesdays are for celebrating! Stop by and let us pour you a HALF PRICE Jude at our Smyrna spot.
URL:https://smyrna.reformationbrewery.com/event/wednesday-specials/2027-01-20/
LOCATION:Reformation Brewery (Smyrna)\, 6255 RIVERVIEW ROAD BUILDING 4000\, SUITE 200\, Smyrna\, GA\, 30126\, United States
ATTACH;FMTTYPE=image/png:https://smyrna.reformationbrewery.com/wp-content/uploads/sites/4/2023/07/wed-smyrna.png
ORGANIZER;CN="Reformation Brewery":MAILTO:info@reformationbrewery.com
END:VEVENT
BEGIN:VEVENT
DTSTART;TZID=America/New_York:20270121T150000
DTEND;TZID=America/New_York:20270121T210000
DTSTAMP:20260425T200253
CREATED:20230706T200955Z
LAST-MODIFIED:20250408T162547Z
UID:10003943-1800543600-1800565200@smyrna.reformationbrewery.com
SUMMARY:Thirsty Thursday
DESCRIPTION:Come thirsty – leave with a growler full! Get $5 off when you BYOG (bring your own growler). Price varies by style.
URL:https://smyrna.reformationbrewery.com/event/thirsty-thursday/2027-01-21/
LOCATION:Reformation Brewery (Smyrna)\, 6255 RIVERVIEW ROAD BUILDING 4000\, SUITE 200\, Smyrna\, GA\, 30126\, United States
ATTACH;FMTTYPE=image/png:https://smyrna.reformationbrewery.com/wp-content/uploads/sites/4/2023/07/Weekly-Specials-2-3.png
ORGANIZER;CN="Reformation Brewery":MAILTO:info@reformationbrewery.com
END:VEVENT
BEGIN:VEVENT
DTSTART;TZID=America/New_York:20270121T190000
DTEND;TZID=America/New_York:20270121T210000
DTSTAMP:20260425T200253
CREATED:20241010T181055Z
LAST-MODIFIED:20241010T181055Z
UID:10002091-1800558000-1800565200@smyrna.reformationbrewery.com
SUMMARY:Music Bingo
DESCRIPTION:Come hang with us for Music Bingo! Brought to you by Lights Up Entertainment!
URL:https://smyrna.reformationbrewery.com/event/music-bingo-4-3/2027-01-21/
LOCATION:Reformation Brewery (Smyrna)\, 6255 RIVERVIEW ROAD BUILDING 4000\, SUITE 200\, Smyrna\, GA\, 30126\, United States
ATTACH;FMTTYPE=image/png:https://smyrna.reformationbrewery.com/wp-content/uploads/sites/4/2023/01/13.png
ORGANIZER;CN="Reformation Brewery":MAILTO:info@reformationbrewery.com
END:VEVENT
BEGIN:VEVENT
DTSTART;TZID=America/New_York:20270122T120000
DTEND;TZID=America/New_York:20270122T220000
DTSTAMP:20260425T200253
CREATED:20230706T213611Z
LAST-MODIFIED:20240327T195516Z
UID:10004204-1800619200-1800655200@smyrna.reformationbrewery.com
SUMMARY:Friday Flights
DESCRIPTION:Take a flight to Reformation\, and see where you end up! Stop by for 4oz pours of new or tried & tested favorites with friends. Just $8 in Canton & Woodstock until 2pm and all day in Smyrna.
URL:https://smyrna.reformationbrewery.com/event/friday-flights/2027-01-22/
LOCATION:Reformation Brewery (Smyrna)\, 6255 RIVERVIEW ROAD BUILDING 4000\, SUITE 200\, Smyrna\, GA\, 30126\, United States
ATTACH;FMTTYPE=image/png:https://smyrna.reformationbrewery.com/wp-content/uploads/sites/4/2023/07/9.png
ORGANIZER;CN="Reformation Brewery":MAILTO:info@reformationbrewery.com
END:VEVENT
BEGIN:VEVENT
DTSTART;TZID=America/New_York:20270123T120000
DTEND;TZID=America/New_York:20270123T220000
DTSTAMP:20260425T200253
CREATED:20230726T164153Z
LAST-MODIFIED:20230726T165849Z
UID:10004987-1800705600-1800741600@smyrna.reformationbrewery.com
SUMMARY:Saturday Specials
DESCRIPTION:$6 Judemosas all day – every taproom
URL:https://smyrna.reformationbrewery.com/event/saturday-specials/2027-01-23/
LOCATION:Reformation Brewery (Smyrna)\, 6255 RIVERVIEW ROAD BUILDING 4000\, SUITE 200\, Smyrna\, GA\, 30126\, United States
ATTACH;FMTTYPE=image/png:https://smyrna.reformationbrewery.com/wp-content/uploads/sites/4/2023/07/Weekly-Specials-2-2.png
ORGANIZER;CN="Reformation Brewery":MAILTO:info@reformationbrewery.com
END:VEVENT
BEGIN:VEVENT
DTSTART;TZID=America/New_York:20270124T120000
DTEND;TZID=America/New_York:20270124T210000
DTSTAMP:20260425T200253
CREATED:20230706T215308Z
LAST-MODIFIED:20231107T231552Z
UID:10004463-1800792000-1800824400@smyrna.reformationbrewery.com
SUMMARY:Service Sundays
DESCRIPTION:Need a break from tending bar? Make Reformation your home away from home & kickoff your weekend with 25% OFF for Bar Staff & Beertenders on Sundays (all taprooms).
URL:https://smyrna.reformationbrewery.com/event/service-sundays/2027-01-24/
LOCATION:Reformation Brewery (Smyrna)\, 6255 RIVERVIEW ROAD BUILDING 4000\, SUITE 200\, Smyrna\, GA\, 30126\, United States
ATTACH;FMTTYPE=image/png:https://smyrna.reformationbrewery.com/wp-content/uploads/sites/4/2023/07/Weekly-Specials-2-1.png
ORGANIZER;CN="Reformation Brewery":MAILTO:info@reformationbrewery.com
END:VEVENT
BEGIN:VEVENT
DTSTART;TZID=America/New_York:20270124T180000
DTEND;TZID=America/New_York:20270124T200000
DTSTAMP:20260425T200253
CREATED:20230106T201053Z
LAST-MODIFIED:20240205T232609Z
UID:10005440-1800813600-1800820800@smyrna.reformationbrewery.com
SUMMARY:Trivia Night
DESCRIPTION:It’s trivia night! Gather your dream team and join us! Prizes for 1st\, 2nd\, and 3rd place!
URL:https://smyrna.reformationbrewery.com/event/trivia/2027-01-24/
LOCATION:Reformation Brewery (Smyrna)\, 6255 RIVERVIEW ROAD BUILDING 4000\, SUITE 200\, Smyrna\, GA\, 30126\, United States
ATTACH;FMTTYPE=image/jpeg:https://smyrna.reformationbrewery.com/wp-content/uploads/sites/4/2021/07/Trivia-Smyrna.jpeg
ORGANIZER;CN="Reformation Brewery":MAILTO:info@reformationbrewery.com
END:VEVENT
BEGIN:VEVENT
DTSTART;TZID=America/New_York:20270127T150000
DTEND;TZID=America/New_York:20270127T210000
DTSTAMP:20260425T200253
CREATED:20230706T173127Z
LAST-MODIFIED:20230801T233443Z
UID:10003424-1801062000-1801083600@smyrna.reformationbrewery.com
SUMMARY:Wednesday Specials
DESCRIPTION:Wednesdays are for celebrating! Stop by and let us pour you a HALF PRICE Jude at our Smyrna spot.
URL:https://smyrna.reformationbrewery.com/event/wednesday-specials/2027-01-27/
LOCATION:Reformation Brewery (Smyrna)\, 6255 RIVERVIEW ROAD BUILDING 4000\, SUITE 200\, Smyrna\, GA\, 30126\, United States
ATTACH;FMTTYPE=image/png:https://smyrna.reformationbrewery.com/wp-content/uploads/sites/4/2023/07/wed-smyrna.png
ORGANIZER;CN="Reformation Brewery":MAILTO:info@reformationbrewery.com
END:VEVENT
BEGIN:VEVENT
DTSTART;TZID=America/New_York:20270128T150000
DTEND;TZID=America/New_York:20270128T210000
DTSTAMP:20260425T200253
CREATED:20230706T200955Z
LAST-MODIFIED:20250408T162547Z
UID:10003944-1801148400-1801170000@smyrna.reformationbrewery.com
SUMMARY:Thirsty Thursday
DESCRIPTION:Come thirsty – leave with a growler full! Get $5 off when you BYOG (bring your own growler). Price varies by style.
URL:https://smyrna.reformationbrewery.com/event/thirsty-thursday/2027-01-28/
LOCATION:Reformation Brewery (Smyrna)\, 6255 RIVERVIEW ROAD BUILDING 4000\, SUITE 200\, Smyrna\, GA\, 30126\, United States
ATTACH;FMTTYPE=image/png:https://smyrna.reformationbrewery.com/wp-content/uploads/sites/4/2023/07/Weekly-Specials-2-3.png
ORGANIZER;CN="Reformation Brewery":MAILTO:info@reformationbrewery.com
END:VEVENT
BEGIN:VEVENT
DTSTART;TZID=America/New_York:20270128T190000
DTEND;TZID=America/New_York:20270128T210000
DTSTAMP:20260425T200253
CREATED:20241010T181055Z
LAST-MODIFIED:20241010T181055Z
UID:10002092-1801162800-1801170000@smyrna.reformationbrewery.com
SUMMARY:Music Bingo
DESCRIPTION:Come hang with us for Music Bingo! Brought to you by Lights Up Entertainment!
URL:https://smyrna.reformationbrewery.com/event/music-bingo-4-3/2027-01-28/
LOCATION:Reformation Brewery (Smyrna)\, 6255 RIVERVIEW ROAD BUILDING 4000\, SUITE 200\, Smyrna\, GA\, 30126\, United States
ATTACH;FMTTYPE=image/png:https://smyrna.reformationbrewery.com/wp-content/uploads/sites/4/2023/01/13.png
ORGANIZER;CN="Reformation Brewery":MAILTO:info@reformationbrewery.com
END:VEVENT
BEGIN:VEVENT
DTSTART;TZID=America/New_York:20270129T120000
DTEND;TZID=America/New_York:20270129T220000
DTSTAMP:20260425T200253
CREATED:20230706T213611Z
LAST-MODIFIED:20240327T195516Z
UID:10004205-1801224000-1801260000@smyrna.reformationbrewery.com
SUMMARY:Friday Flights
DESCRIPTION:Take a flight to Reformation\, and see where you end up! Stop by for 4oz pours of new or tried & tested favorites with friends. Just $8 in Canton & Woodstock until 2pm and all day in Smyrna.
URL:https://smyrna.reformationbrewery.com/event/friday-flights/2027-01-29/
LOCATION:Reformation Brewery (Smyrna)\, 6255 RIVERVIEW ROAD BUILDING 4000\, SUITE 200\, Smyrna\, GA\, 30126\, United States
ATTACH;FMTTYPE=image/png:https://smyrna.reformationbrewery.com/wp-content/uploads/sites/4/2023/07/9.png
ORGANIZER;CN="Reformation Brewery":MAILTO:info@reformationbrewery.com
END:VEVENT
BEGIN:VEVENT
DTSTART;TZID=America/New_York:20270130T120000
DTEND;TZID=America/New_York:20270130T220000
DTSTAMP:20260425T200253
CREATED:20230726T164153Z
LAST-MODIFIED:20230726T165849Z
UID:10004988-1801310400-1801346400@smyrna.reformationbrewery.com
SUMMARY:Saturday Specials
DESCRIPTION:$6 Judemosas all day – every taproom
URL:https://smyrna.reformationbrewery.com/event/saturday-specials/2027-01-30/
LOCATION:Reformation Brewery (Smyrna)\, 6255 RIVERVIEW ROAD BUILDING 4000\, SUITE 200\, Smyrna\, GA\, 30126\, United States
ATTACH;FMTTYPE=image/png:https://smyrna.reformationbrewery.com/wp-content/uploads/sites/4/2023/07/Weekly-Specials-2-2.png
ORGANIZER;CN="Reformation Brewery":MAILTO:info@reformationbrewery.com
END:VEVENT
BEGIN:VEVENT
DTSTART;TZID=America/New_York:20270131T120000
DTEND;TZID=America/New_York:20270131T210000
DTSTAMP:20260425T200253
CREATED:20230706T215308Z
LAST-MODIFIED:20231107T231552Z
UID:10004464-1801396800-1801429200@smyrna.reformationbrewery.com
SUMMARY:Service Sundays
DESCRIPTION:Need a break from tending bar? Make Reformation your home away from home & kickoff your weekend with 25% OFF for Bar Staff & Beertenders on Sundays (all taprooms).
URL:https://smyrna.reformationbrewery.com/event/service-sundays/2027-01-31/
LOCATION:Reformation Brewery (Smyrna)\, 6255 RIVERVIEW ROAD BUILDING 4000\, SUITE 200\, Smyrna\, GA\, 30126\, United States
ATTACH;FMTTYPE=image/png:https://smyrna.reformationbrewery.com/wp-content/uploads/sites/4/2023/07/Weekly-Specials-2-1.png
ORGANIZER;CN="Reformation Brewery":MAILTO:info@reformationbrewery.com
END:VEVENT
BEGIN:VEVENT
DTSTART;TZID=America/New_York:20270131T180000
DTEND;TZID=America/New_York:20270131T200000
DTSTAMP:20260425T200253
CREATED:20230106T201053Z
LAST-MODIFIED:20240205T232609Z
UID:10005441-1801418400-1801425600@smyrna.reformationbrewery.com
SUMMARY:Trivia Night
DESCRIPTION:It’s trivia night! Gather your dream team and join us! Prizes for 1st\, 2nd\, and 3rd place!
URL:https://smyrna.reformationbrewery.com/event/trivia/2027-01-31/
LOCATION:Reformation Brewery (Smyrna)\, 6255 RIVERVIEW ROAD BUILDING 4000\, SUITE 200\, Smyrna\, GA\, 30126\, United States
ATTACH;FMTTYPE=image/jpeg:https://smyrna.reformationbrewery.com/wp-content/uploads/sites/4/2021/07/Trivia-Smyrna.jpeg
ORGANIZER;CN="Reformation Brewery":MAILTO:info@reformationbrewery.com
END:VEVENT
BEGIN:VEVENT
DTSTART;TZID=America/New_York:20270203T150000
DTEND;TZID=America/New_York:20270203T210000
DTSTAMP:20260425T200253
CREATED:20230706T173127Z
LAST-MODIFIED:20230801T233443Z
UID:10003425-1801666800-1801688400@smyrna.reformationbrewery.com
SUMMARY:Wednesday Specials
DESCRIPTION:Wednesdays are for celebrating! Stop by and let us pour you a HALF PRICE Jude at our Smyrna spot.
URL:https://smyrna.reformationbrewery.com/event/wednesday-specials/2027-02-03/
LOCATION:Reformation Brewery (Smyrna)\, 6255 RIVERVIEW ROAD BUILDING 4000\, SUITE 200\, Smyrna\, GA\, 30126\, United States
ATTACH;FMTTYPE=image/png:https://smyrna.reformationbrewery.com/wp-content/uploads/sites/4/2023/07/wed-smyrna.png
ORGANIZER;CN="Reformation Brewery":MAILTO:info@reformationbrewery.com
END:VEVENT
BEGIN:VEVENT
DTSTART;TZID=America/New_York:20270204T150000
DTEND;TZID=America/New_York:20270204T210000
DTSTAMP:20260425T200253
CREATED:20230706T200955Z
LAST-MODIFIED:20250408T162547Z
UID:10003945-1801753200-1801774800@smyrna.reformationbrewery.com
SUMMARY:Thirsty Thursday
DESCRIPTION:Come thirsty – leave with a growler full! Get $5 off when you BYOG (bring your own growler). Price varies by style.
URL:https://smyrna.reformationbrewery.com/event/thirsty-thursday/2027-02-04/
LOCATION:Reformation Brewery (Smyrna)\, 6255 RIVERVIEW ROAD BUILDING 4000\, SUITE 200\, Smyrna\, GA\, 30126\, United States
ATTACH;FMTTYPE=image/png:https://smyrna.reformationbrewery.com/wp-content/uploads/sites/4/2023/07/Weekly-Specials-2-3.png
ORGANIZER;CN="Reformation Brewery":MAILTO:info@reformationbrewery.com
END:VEVENT
END:VCALENDAR