BEGIN:VCALENDAR
VERSION:2.0
PRODID:-//Smyrna - ECPv6.15.20//NONSGML v1.0//EN
CALSCALE:GREGORIAN
METHOD:PUBLISH
X-WR-CALNAME:Smyrna
X-ORIGINAL-URL:https://smyrna.reformationbrewery.com
X-WR-CALDESC:Events for Smyrna
REFRESH-INTERVAL;VALUE=DURATION:PT1H
X-Robots-Tag:noindex
X-PUBLISHED-TTL:PT1H
BEGIN:VTIMEZONE
TZID:America/New_York
BEGIN:DAYLIGHT
TZOFFSETFROM:-0500
TZOFFSETTO:-0400
TZNAME:EDT
DTSTART:20260308T070000
END:DAYLIGHT
BEGIN:STANDARD
TZOFFSETFROM:-0400
TZOFFSETTO:-0500
TZNAME:EST
DTSTART:20261101T060000
END:STANDARD
BEGIN:DAYLIGHT
TZOFFSETFROM:-0500
TZOFFSETTO:-0400
TZNAME:EDT
DTSTART:20270314T070000
END:DAYLIGHT
BEGIN:STANDARD
TZOFFSETFROM:-0400
TZOFFSETTO:-0500
TZNAME:EST
DTSTART:20271107T060000
END:STANDARD
BEGIN:DAYLIGHT
TZOFFSETFROM:-0500
TZOFFSETTO:-0400
TZNAME:EDT
DTSTART:20280312T070000
END:DAYLIGHT
BEGIN:STANDARD
TZOFFSETFROM:-0400
TZOFFSETTO:-0500
TZNAME:EST
DTSTART:20281105T060000
END:STANDARD
END:VTIMEZONE
BEGIN:VEVENT
DTSTART;TZID=America/New_York:20270130T120000
DTEND;TZID=America/New_York:20270130T220000
DTSTAMP:20260425T225937
CREATED:20230726T164153Z
LAST-MODIFIED:20230726T165849Z
UID:10004988-1801310400-1801346400@smyrna.reformationbrewery.com
SUMMARY:Saturday Specials
DESCRIPTION:$6 Judemosas all day – every taproom
URL:https://smyrna.reformationbrewery.com/event/saturday-specials/2027-01-30/
LOCATION:Reformation Brewery (Smyrna)\, 6255 RIVERVIEW ROAD BUILDING 4000\, SUITE 200\, Smyrna\, GA\, 30126\, United States
ATTACH;FMTTYPE=image/png:https://smyrna.reformationbrewery.com/wp-content/uploads/sites/4/2023/07/Weekly-Specials-2-2.png
ORGANIZER;CN="Reformation Brewery":MAILTO:info@reformationbrewery.com
END:VEVENT
BEGIN:VEVENT
DTSTART;TZID=America/New_York:20270131T120000
DTEND;TZID=America/New_York:20270131T210000
DTSTAMP:20260425T225937
CREATED:20230706T215308Z
LAST-MODIFIED:20231107T231552Z
UID:10004464-1801396800-1801429200@smyrna.reformationbrewery.com
SUMMARY:Service Sundays
DESCRIPTION:Need a break from tending bar? Make Reformation your home away from home & kickoff your weekend with 25% OFF for Bar Staff & Beertenders on Sundays (all taprooms).
URL:https://smyrna.reformationbrewery.com/event/service-sundays/2027-01-31/
LOCATION:Reformation Brewery (Smyrna)\, 6255 RIVERVIEW ROAD BUILDING 4000\, SUITE 200\, Smyrna\, GA\, 30126\, United States
ATTACH;FMTTYPE=image/png:https://smyrna.reformationbrewery.com/wp-content/uploads/sites/4/2023/07/Weekly-Specials-2-1.png
ORGANIZER;CN="Reformation Brewery":MAILTO:info@reformationbrewery.com
END:VEVENT
BEGIN:VEVENT
DTSTART;TZID=America/New_York:20270131T180000
DTEND;TZID=America/New_York:20270131T200000
DTSTAMP:20260425T225937
CREATED:20230106T201053Z
LAST-MODIFIED:20240205T232609Z
UID:10005441-1801418400-1801425600@smyrna.reformationbrewery.com
SUMMARY:Trivia Night
DESCRIPTION:It’s trivia night! Gather your dream team and join us! Prizes for 1st\, 2nd\, and 3rd place!
URL:https://smyrna.reformationbrewery.com/event/trivia/2027-01-31/
LOCATION:Reformation Brewery (Smyrna)\, 6255 RIVERVIEW ROAD BUILDING 4000\, SUITE 200\, Smyrna\, GA\, 30126\, United States
ATTACH;FMTTYPE=image/jpeg:https://smyrna.reformationbrewery.com/wp-content/uploads/sites/4/2021/07/Trivia-Smyrna.jpeg
ORGANIZER;CN="Reformation Brewery":MAILTO:info@reformationbrewery.com
END:VEVENT
BEGIN:VEVENT
DTSTART;TZID=America/New_York:20270203T150000
DTEND;TZID=America/New_York:20270203T210000
DTSTAMP:20260425T225937
CREATED:20230706T173127Z
LAST-MODIFIED:20230801T233443Z
UID:10003425-1801666800-1801688400@smyrna.reformationbrewery.com
SUMMARY:Wednesday Specials
DESCRIPTION:Wednesdays are for celebrating! Stop by and let us pour you a HALF PRICE Jude at our Smyrna spot.
URL:https://smyrna.reformationbrewery.com/event/wednesday-specials/2027-02-03/
LOCATION:Reformation Brewery (Smyrna)\, 6255 RIVERVIEW ROAD BUILDING 4000\, SUITE 200\, Smyrna\, GA\, 30126\, United States
ATTACH;FMTTYPE=image/png:https://smyrna.reformationbrewery.com/wp-content/uploads/sites/4/2023/07/wed-smyrna.png
ORGANIZER;CN="Reformation Brewery":MAILTO:info@reformationbrewery.com
END:VEVENT
BEGIN:VEVENT
DTSTART;TZID=America/New_York:20270204T150000
DTEND;TZID=America/New_York:20270204T210000
DTSTAMP:20260425T225937
CREATED:20230706T200955Z
LAST-MODIFIED:20250408T162547Z
UID:10003945-1801753200-1801774800@smyrna.reformationbrewery.com
SUMMARY:Thirsty Thursday
DESCRIPTION:Come thirsty – leave with a growler full! Get $5 off when you BYOG (bring your own growler). Price varies by style.
URL:https://smyrna.reformationbrewery.com/event/thirsty-thursday/2027-02-04/
LOCATION:Reformation Brewery (Smyrna)\, 6255 RIVERVIEW ROAD BUILDING 4000\, SUITE 200\, Smyrna\, GA\, 30126\, United States
ATTACH;FMTTYPE=image/png:https://smyrna.reformationbrewery.com/wp-content/uploads/sites/4/2023/07/Weekly-Specials-2-3.png
ORGANIZER;CN="Reformation Brewery":MAILTO:info@reformationbrewery.com
END:VEVENT
BEGIN:VEVENT
DTSTART;TZID=America/New_York:20270204T190000
DTEND;TZID=America/New_York:20270204T210000
DTSTAMP:20260425T225937
CREATED:20241010T181055Z
LAST-MODIFIED:20241010T181055Z
UID:10002093-1801767600-1801774800@smyrna.reformationbrewery.com
SUMMARY:Music Bingo
DESCRIPTION:Come hang with us for Music Bingo! Brought to you by Lights Up Entertainment!
URL:https://smyrna.reformationbrewery.com/event/music-bingo-4-3/2027-02-04/
LOCATION:Reformation Brewery (Smyrna)\, 6255 RIVERVIEW ROAD BUILDING 4000\, SUITE 200\, Smyrna\, GA\, 30126\, United States
ATTACH;FMTTYPE=image/png:https://smyrna.reformationbrewery.com/wp-content/uploads/sites/4/2023/01/13.png
ORGANIZER;CN="Reformation Brewery":MAILTO:info@reformationbrewery.com
END:VEVENT
BEGIN:VEVENT
DTSTART;TZID=America/New_York:20270205T120000
DTEND;TZID=America/New_York:20270205T220000
DTSTAMP:20260425T225937
CREATED:20230706T213611Z
LAST-MODIFIED:20240327T195516Z
UID:10004206-1801828800-1801864800@smyrna.reformationbrewery.com
SUMMARY:Friday Flights
DESCRIPTION:Take a flight to Reformation\, and see where you end up! Stop by for 4oz pours of new or tried & tested favorites with friends. Just $8 in Canton & Woodstock until 2pm and all day in Smyrna.
URL:https://smyrna.reformationbrewery.com/event/friday-flights/2027-02-05/
LOCATION:Reformation Brewery (Smyrna)\, 6255 RIVERVIEW ROAD BUILDING 4000\, SUITE 200\, Smyrna\, GA\, 30126\, United States
ATTACH;FMTTYPE=image/png:https://smyrna.reformationbrewery.com/wp-content/uploads/sites/4/2023/07/9.png
ORGANIZER;CN="Reformation Brewery":MAILTO:info@reformationbrewery.com
END:VEVENT
BEGIN:VEVENT
DTSTART;TZID=America/New_York:20270205T170000
DTEND;TZID=America/New_York:20270205T200000
DTSTAMP:20260425T225937
CREATED:20250401T152112Z
LAST-MODIFIED:20250710T163131Z
UID:10007391-1801846800-1801857600@smyrna.reformationbrewery.com
SUMMARY:Nothin' to Lose
DESCRIPTION:Live music\, cold beer\, and good vibes – what more could you need? Join us for great tunes and even better company!
URL:https://smyrna.reformationbrewery.com/event/nothin-to-lose-2/2027-02-05/
LOCATION:Reformation Brewery (Smyrna)\, 6255 RIVERVIEW ROAD BUILDING 4000\, SUITE 200\, Smyrna\, GA\, 30126\, United States
CATEGORIES:Smyrna,Music
ATTACH;FMTTYPE=image/png:https://smyrna.reformationbrewery.com/wp-content/uploads/sites/4/2025/04/FB-Event-Musician-Header.png
END:VEVENT
BEGIN:VEVENT
DTSTART;TZID=America/New_York:20270206T120000
DTEND;TZID=America/New_York:20270206T220000
DTSTAMP:20260425T225937
CREATED:20230726T164153Z
LAST-MODIFIED:20230726T165849Z
UID:10004989-1801915200-1801951200@smyrna.reformationbrewery.com
SUMMARY:Saturday Specials
DESCRIPTION:$6 Judemosas all day – every taproom
URL:https://smyrna.reformationbrewery.com/event/saturday-specials/2027-02-06/
LOCATION:Reformation Brewery (Smyrna)\, 6255 RIVERVIEW ROAD BUILDING 4000\, SUITE 200\, Smyrna\, GA\, 30126\, United States
ATTACH;FMTTYPE=image/png:https://smyrna.reformationbrewery.com/wp-content/uploads/sites/4/2023/07/Weekly-Specials-2-2.png
ORGANIZER;CN="Reformation Brewery":MAILTO:info@reformationbrewery.com
END:VEVENT
BEGIN:VEVENT
DTSTART;TZID=America/New_York:20270207T120000
DTEND;TZID=America/New_York:20270207T210000
DTSTAMP:20260425T225937
CREATED:20230706T215308Z
LAST-MODIFIED:20231107T231552Z
UID:10004465-1802001600-1802034000@smyrna.reformationbrewery.com
SUMMARY:Service Sundays
DESCRIPTION:Need a break from tending bar? Make Reformation your home away from home & kickoff your weekend with 25% OFF for Bar Staff & Beertenders on Sundays (all taprooms).
URL:https://smyrna.reformationbrewery.com/event/service-sundays/2027-02-07/
LOCATION:Reformation Brewery (Smyrna)\, 6255 RIVERVIEW ROAD BUILDING 4000\, SUITE 200\, Smyrna\, GA\, 30126\, United States
ATTACH;FMTTYPE=image/png:https://smyrna.reformationbrewery.com/wp-content/uploads/sites/4/2023/07/Weekly-Specials-2-1.png
ORGANIZER;CN="Reformation Brewery":MAILTO:info@reformationbrewery.com
END:VEVENT
BEGIN:VEVENT
DTSTART;TZID=America/New_York:20270207T180000
DTEND;TZID=America/New_York:20270207T200000
DTSTAMP:20260425T225937
CREATED:20230106T201053Z
LAST-MODIFIED:20240205T232609Z
UID:10005442-1802023200-1802030400@smyrna.reformationbrewery.com
SUMMARY:Trivia Night
DESCRIPTION:It’s trivia night! Gather your dream team and join us! Prizes for 1st\, 2nd\, and 3rd place!
URL:https://smyrna.reformationbrewery.com/event/trivia/2027-02-07/
LOCATION:Reformation Brewery (Smyrna)\, 6255 RIVERVIEW ROAD BUILDING 4000\, SUITE 200\, Smyrna\, GA\, 30126\, United States
ATTACH;FMTTYPE=image/jpeg:https://smyrna.reformationbrewery.com/wp-content/uploads/sites/4/2021/07/Trivia-Smyrna.jpeg
ORGANIZER;CN="Reformation Brewery":MAILTO:info@reformationbrewery.com
END:VEVENT
BEGIN:VEVENT
DTSTART;TZID=America/New_York:20270210T150000
DTEND;TZID=America/New_York:20270210T210000
DTSTAMP:20260425T225937
CREATED:20230706T173127Z
LAST-MODIFIED:20230801T233443Z
UID:10003426-1802271600-1802293200@smyrna.reformationbrewery.com
SUMMARY:Wednesday Specials
DESCRIPTION:Wednesdays are for celebrating! Stop by and let us pour you a HALF PRICE Jude at our Smyrna spot.
URL:https://smyrna.reformationbrewery.com/event/wednesday-specials/2027-02-10/
LOCATION:Reformation Brewery (Smyrna)\, 6255 RIVERVIEW ROAD BUILDING 4000\, SUITE 200\, Smyrna\, GA\, 30126\, United States
ATTACH;FMTTYPE=image/png:https://smyrna.reformationbrewery.com/wp-content/uploads/sites/4/2023/07/wed-smyrna.png
ORGANIZER;CN="Reformation Brewery":MAILTO:info@reformationbrewery.com
END:VEVENT
BEGIN:VEVENT
DTSTART;TZID=America/New_York:20270211T150000
DTEND;TZID=America/New_York:20270211T210000
DTSTAMP:20260425T225937
CREATED:20230706T200955Z
LAST-MODIFIED:20250408T162547Z
UID:10003946-1802358000-1802379600@smyrna.reformationbrewery.com
SUMMARY:Thirsty Thursday
DESCRIPTION:Come thirsty – leave with a growler full! Get $5 off when you BYOG (bring your own growler). Price varies by style.
URL:https://smyrna.reformationbrewery.com/event/thirsty-thursday/2027-02-11/
LOCATION:Reformation Brewery (Smyrna)\, 6255 RIVERVIEW ROAD BUILDING 4000\, SUITE 200\, Smyrna\, GA\, 30126\, United States
ATTACH;FMTTYPE=image/png:https://smyrna.reformationbrewery.com/wp-content/uploads/sites/4/2023/07/Weekly-Specials-2-3.png
ORGANIZER;CN="Reformation Brewery":MAILTO:info@reformationbrewery.com
END:VEVENT
BEGIN:VEVENT
DTSTART;TZID=America/New_York:20270211T190000
DTEND;TZID=America/New_York:20270211T210000
DTSTAMP:20260425T225937
CREATED:20241010T181055Z
LAST-MODIFIED:20241010T181055Z
UID:10002094-1802372400-1802379600@smyrna.reformationbrewery.com
SUMMARY:Music Bingo
DESCRIPTION:Come hang with us for Music Bingo! Brought to you by Lights Up Entertainment!
URL:https://smyrna.reformationbrewery.com/event/music-bingo-4-3/2027-02-11/
LOCATION:Reformation Brewery (Smyrna)\, 6255 RIVERVIEW ROAD BUILDING 4000\, SUITE 200\, Smyrna\, GA\, 30126\, United States
ATTACH;FMTTYPE=image/png:https://smyrna.reformationbrewery.com/wp-content/uploads/sites/4/2023/01/13.png
ORGANIZER;CN="Reformation Brewery":MAILTO:info@reformationbrewery.com
END:VEVENT
BEGIN:VEVENT
DTSTART;TZID=America/New_York:20270212T120000
DTEND;TZID=America/New_York:20270212T220000
DTSTAMP:20260425T225937
CREATED:20230706T213611Z
LAST-MODIFIED:20240327T195516Z
UID:10004207-1802433600-1802469600@smyrna.reformationbrewery.com
SUMMARY:Friday Flights
DESCRIPTION:Take a flight to Reformation\, and see where you end up! Stop by for 4oz pours of new or tried & tested favorites with friends. Just $8 in Canton & Woodstock until 2pm and all day in Smyrna.
URL:https://smyrna.reformationbrewery.com/event/friday-flights/2027-02-12/
LOCATION:Reformation Brewery (Smyrna)\, 6255 RIVERVIEW ROAD BUILDING 4000\, SUITE 200\, Smyrna\, GA\, 30126\, United States
ATTACH;FMTTYPE=image/png:https://smyrna.reformationbrewery.com/wp-content/uploads/sites/4/2023/07/9.png
ORGANIZER;CN="Reformation Brewery":MAILTO:info@reformationbrewery.com
END:VEVENT
BEGIN:VEVENT
DTSTART;TZID=America/New_York:20270213T120000
DTEND;TZID=America/New_York:20270213T220000
DTSTAMP:20260425T225937
CREATED:20230726T164153Z
LAST-MODIFIED:20230726T165849Z
UID:10004990-1802520000-1802556000@smyrna.reformationbrewery.com
SUMMARY:Saturday Specials
DESCRIPTION:$6 Judemosas all day – every taproom
URL:https://smyrna.reformationbrewery.com/event/saturday-specials/2027-02-13/
LOCATION:Reformation Brewery (Smyrna)\, 6255 RIVERVIEW ROAD BUILDING 4000\, SUITE 200\, Smyrna\, GA\, 30126\, United States
ATTACH;FMTTYPE=image/png:https://smyrna.reformationbrewery.com/wp-content/uploads/sites/4/2023/07/Weekly-Specials-2-2.png
ORGANIZER;CN="Reformation Brewery":MAILTO:info@reformationbrewery.com
END:VEVENT
BEGIN:VEVENT
DTSTART;TZID=America/New_York:20270214T120000
DTEND;TZID=America/New_York:20270214T210000
DTSTAMP:20260425T225937
CREATED:20230706T215308Z
LAST-MODIFIED:20231107T231552Z
UID:10004466-1802606400-1802638800@smyrna.reformationbrewery.com
SUMMARY:Service Sundays
DESCRIPTION:Need a break from tending bar? Make Reformation your home away from home & kickoff your weekend with 25% OFF for Bar Staff & Beertenders on Sundays (all taprooms).
URL:https://smyrna.reformationbrewery.com/event/service-sundays/2027-02-14/
LOCATION:Reformation Brewery (Smyrna)\, 6255 RIVERVIEW ROAD BUILDING 4000\, SUITE 200\, Smyrna\, GA\, 30126\, United States
ATTACH;FMTTYPE=image/png:https://smyrna.reformationbrewery.com/wp-content/uploads/sites/4/2023/07/Weekly-Specials-2-1.png
ORGANIZER;CN="Reformation Brewery":MAILTO:info@reformationbrewery.com
END:VEVENT
BEGIN:VEVENT
DTSTART;TZID=America/New_York:20270214T180000
DTEND;TZID=America/New_York:20270214T200000
DTSTAMP:20260425T225937
CREATED:20230106T201053Z
LAST-MODIFIED:20240205T232609Z
UID:10005443-1802628000-1802635200@smyrna.reformationbrewery.com
SUMMARY:Trivia Night
DESCRIPTION:It’s trivia night! Gather your dream team and join us! Prizes for 1st\, 2nd\, and 3rd place!
URL:https://smyrna.reformationbrewery.com/event/trivia/2027-02-14/
LOCATION:Reformation Brewery (Smyrna)\, 6255 RIVERVIEW ROAD BUILDING 4000\, SUITE 200\, Smyrna\, GA\, 30126\, United States
ATTACH;FMTTYPE=image/jpeg:https://smyrna.reformationbrewery.com/wp-content/uploads/sites/4/2021/07/Trivia-Smyrna.jpeg
ORGANIZER;CN="Reformation Brewery":MAILTO:info@reformationbrewery.com
END:VEVENT
BEGIN:VEVENT
DTSTART;TZID=America/New_York:20270217T150000
DTEND;TZID=America/New_York:20270217T210000
DTSTAMP:20260425T225937
CREATED:20230706T173127Z
LAST-MODIFIED:20230801T233443Z
UID:10003427-1802876400-1802898000@smyrna.reformationbrewery.com
SUMMARY:Wednesday Specials
DESCRIPTION:Wednesdays are for celebrating! Stop by and let us pour you a HALF PRICE Jude at our Smyrna spot.
URL:https://smyrna.reformationbrewery.com/event/wednesday-specials/2027-02-17/
LOCATION:Reformation Brewery (Smyrna)\, 6255 RIVERVIEW ROAD BUILDING 4000\, SUITE 200\, Smyrna\, GA\, 30126\, United States
ATTACH;FMTTYPE=image/png:https://smyrna.reformationbrewery.com/wp-content/uploads/sites/4/2023/07/wed-smyrna.png
ORGANIZER;CN="Reformation Brewery":MAILTO:info@reformationbrewery.com
END:VEVENT
BEGIN:VEVENT
DTSTART;TZID=America/New_York:20270218T150000
DTEND;TZID=America/New_York:20270218T210000
DTSTAMP:20260425T225937
CREATED:20230706T200955Z
LAST-MODIFIED:20250408T162547Z
UID:10003947-1802962800-1802984400@smyrna.reformationbrewery.com
SUMMARY:Thirsty Thursday
DESCRIPTION:Come thirsty – leave with a growler full! Get $5 off when you BYOG (bring your own growler). Price varies by style.
URL:https://smyrna.reformationbrewery.com/event/thirsty-thursday/2027-02-18/
LOCATION:Reformation Brewery (Smyrna)\, 6255 RIVERVIEW ROAD BUILDING 4000\, SUITE 200\, Smyrna\, GA\, 30126\, United States
ATTACH;FMTTYPE=image/png:https://smyrna.reformationbrewery.com/wp-content/uploads/sites/4/2023/07/Weekly-Specials-2-3.png
ORGANIZER;CN="Reformation Brewery":MAILTO:info@reformationbrewery.com
END:VEVENT
BEGIN:VEVENT
DTSTART;TZID=America/New_York:20270218T190000
DTEND;TZID=America/New_York:20270218T210000
DTSTAMP:20260425T225937
CREATED:20241010T181055Z
LAST-MODIFIED:20241010T181055Z
UID:10002095-1802977200-1802984400@smyrna.reformationbrewery.com
SUMMARY:Music Bingo
DESCRIPTION:Come hang with us for Music Bingo! Brought to you by Lights Up Entertainment!
URL:https://smyrna.reformationbrewery.com/event/music-bingo-4-3/2027-02-18/
LOCATION:Reformation Brewery (Smyrna)\, 6255 RIVERVIEW ROAD BUILDING 4000\, SUITE 200\, Smyrna\, GA\, 30126\, United States
ATTACH;FMTTYPE=image/png:https://smyrna.reformationbrewery.com/wp-content/uploads/sites/4/2023/01/13.png
ORGANIZER;CN="Reformation Brewery":MAILTO:info@reformationbrewery.com
END:VEVENT
BEGIN:VEVENT
DTSTART;TZID=America/New_York:20270219T120000
DTEND;TZID=America/New_York:20270219T220000
DTSTAMP:20260425T225937
CREATED:20230706T213611Z
LAST-MODIFIED:20240327T195516Z
UID:10004208-1803038400-1803074400@smyrna.reformationbrewery.com
SUMMARY:Friday Flights
DESCRIPTION:Take a flight to Reformation\, and see where you end up! Stop by for 4oz pours of new or tried & tested favorites with friends. Just $8 in Canton & Woodstock until 2pm and all day in Smyrna.
URL:https://smyrna.reformationbrewery.com/event/friday-flights/2027-02-19/
LOCATION:Reformation Brewery (Smyrna)\, 6255 RIVERVIEW ROAD BUILDING 4000\, SUITE 200\, Smyrna\, GA\, 30126\, United States
ATTACH;FMTTYPE=image/png:https://smyrna.reformationbrewery.com/wp-content/uploads/sites/4/2023/07/9.png
ORGANIZER;CN="Reformation Brewery":MAILTO:info@reformationbrewery.com
END:VEVENT
BEGIN:VEVENT
DTSTART;TZID=America/New_York:20270220T120000
DTEND;TZID=America/New_York:20270220T220000
DTSTAMP:20260425T225937
CREATED:20230726T164153Z
LAST-MODIFIED:20230726T165849Z
UID:10004991-1803124800-1803160800@smyrna.reformationbrewery.com
SUMMARY:Saturday Specials
DESCRIPTION:$6 Judemosas all day – every taproom
URL:https://smyrna.reformationbrewery.com/event/saturday-specials/2027-02-20/
LOCATION:Reformation Brewery (Smyrna)\, 6255 RIVERVIEW ROAD BUILDING 4000\, SUITE 200\, Smyrna\, GA\, 30126\, United States
ATTACH;FMTTYPE=image/png:https://smyrna.reformationbrewery.com/wp-content/uploads/sites/4/2023/07/Weekly-Specials-2-2.png
ORGANIZER;CN="Reformation Brewery":MAILTO:info@reformationbrewery.com
END:VEVENT
BEGIN:VEVENT
DTSTART;TZID=America/New_York:20270221T120000
DTEND;TZID=America/New_York:20270221T210000
DTSTAMP:20260425T225937
CREATED:20230706T215308Z
LAST-MODIFIED:20231107T231552Z
UID:10004467-1803211200-1803243600@smyrna.reformationbrewery.com
SUMMARY:Service Sundays
DESCRIPTION:Need a break from tending bar? Make Reformation your home away from home & kickoff your weekend with 25% OFF for Bar Staff & Beertenders on Sundays (all taprooms).
URL:https://smyrna.reformationbrewery.com/event/service-sundays/2027-02-21/
LOCATION:Reformation Brewery (Smyrna)\, 6255 RIVERVIEW ROAD BUILDING 4000\, SUITE 200\, Smyrna\, GA\, 30126\, United States
ATTACH;FMTTYPE=image/png:https://smyrna.reformationbrewery.com/wp-content/uploads/sites/4/2023/07/Weekly-Specials-2-1.png
ORGANIZER;CN="Reformation Brewery":MAILTO:info@reformationbrewery.com
END:VEVENT
BEGIN:VEVENT
DTSTART;TZID=America/New_York:20270221T180000
DTEND;TZID=America/New_York:20270221T200000
DTSTAMP:20260425T225937
CREATED:20230106T201053Z
LAST-MODIFIED:20240205T232609Z
UID:10005444-1803232800-1803240000@smyrna.reformationbrewery.com
SUMMARY:Trivia Night
DESCRIPTION:It’s trivia night! Gather your dream team and join us! Prizes for 1st\, 2nd\, and 3rd place!
URL:https://smyrna.reformationbrewery.com/event/trivia/2027-02-21/
LOCATION:Reformation Brewery (Smyrna)\, 6255 RIVERVIEW ROAD BUILDING 4000\, SUITE 200\, Smyrna\, GA\, 30126\, United States
ATTACH;FMTTYPE=image/jpeg:https://smyrna.reformationbrewery.com/wp-content/uploads/sites/4/2021/07/Trivia-Smyrna.jpeg
ORGANIZER;CN="Reformation Brewery":MAILTO:info@reformationbrewery.com
END:VEVENT
BEGIN:VEVENT
DTSTART;TZID=America/New_York:20270224T150000
DTEND;TZID=America/New_York:20270224T210000
DTSTAMP:20260425T225937
CREATED:20230706T173127Z
LAST-MODIFIED:20230801T233443Z
UID:10003428-1803481200-1803502800@smyrna.reformationbrewery.com
SUMMARY:Wednesday Specials
DESCRIPTION:Wednesdays are for celebrating! Stop by and let us pour you a HALF PRICE Jude at our Smyrna spot.
URL:https://smyrna.reformationbrewery.com/event/wednesday-specials/2027-02-24/
LOCATION:Reformation Brewery (Smyrna)\, 6255 RIVERVIEW ROAD BUILDING 4000\, SUITE 200\, Smyrna\, GA\, 30126\, United States
ATTACH;FMTTYPE=image/png:https://smyrna.reformationbrewery.com/wp-content/uploads/sites/4/2023/07/wed-smyrna.png
ORGANIZER;CN="Reformation Brewery":MAILTO:info@reformationbrewery.com
END:VEVENT
BEGIN:VEVENT
DTSTART;TZID=America/New_York:20270225T150000
DTEND;TZID=America/New_York:20270225T210000
DTSTAMP:20260425T225937
CREATED:20230706T200955Z
LAST-MODIFIED:20250408T162547Z
UID:10003948-1803567600-1803589200@smyrna.reformationbrewery.com
SUMMARY:Thirsty Thursday
DESCRIPTION:Come thirsty – leave with a growler full! Get $5 off when you BYOG (bring your own growler). Price varies by style.
URL:https://smyrna.reformationbrewery.com/event/thirsty-thursday/2027-02-25/
LOCATION:Reformation Brewery (Smyrna)\, 6255 RIVERVIEW ROAD BUILDING 4000\, SUITE 200\, Smyrna\, GA\, 30126\, United States
ATTACH;FMTTYPE=image/png:https://smyrna.reformationbrewery.com/wp-content/uploads/sites/4/2023/07/Weekly-Specials-2-3.png
ORGANIZER;CN="Reformation Brewery":MAILTO:info@reformationbrewery.com
END:VEVENT
BEGIN:VEVENT
DTSTART;TZID=America/New_York:20270225T190000
DTEND;TZID=America/New_York:20270225T210000
DTSTAMP:20260425T225937
CREATED:20241010T181055Z
LAST-MODIFIED:20241010T181055Z
UID:10002096-1803582000-1803589200@smyrna.reformationbrewery.com
SUMMARY:Music Bingo
DESCRIPTION:Come hang with us for Music Bingo! Brought to you by Lights Up Entertainment!
URL:https://smyrna.reformationbrewery.com/event/music-bingo-4-3/2027-02-25/
LOCATION:Reformation Brewery (Smyrna)\, 6255 RIVERVIEW ROAD BUILDING 4000\, SUITE 200\, Smyrna\, GA\, 30126\, United States
ATTACH;FMTTYPE=image/png:https://smyrna.reformationbrewery.com/wp-content/uploads/sites/4/2023/01/13.png
ORGANIZER;CN="Reformation Brewery":MAILTO:info@reformationbrewery.com
END:VEVENT
BEGIN:VEVENT
DTSTART;TZID=America/New_York:20270226T120000
DTEND;TZID=America/New_York:20270226T220000
DTSTAMP:20260425T225937
CREATED:20230706T213611Z
LAST-MODIFIED:20240327T195516Z
UID:10004209-1803643200-1803679200@smyrna.reformationbrewery.com
SUMMARY:Friday Flights
DESCRIPTION:Take a flight to Reformation\, and see where you end up! Stop by for 4oz pours of new or tried & tested favorites with friends. Just $8 in Canton & Woodstock until 2pm and all day in Smyrna.
URL:https://smyrna.reformationbrewery.com/event/friday-flights/2027-02-26/
LOCATION:Reformation Brewery (Smyrna)\, 6255 RIVERVIEW ROAD BUILDING 4000\, SUITE 200\, Smyrna\, GA\, 30126\, United States
ATTACH;FMTTYPE=image/png:https://smyrna.reformationbrewery.com/wp-content/uploads/sites/4/2023/07/9.png
ORGANIZER;CN="Reformation Brewery":MAILTO:info@reformationbrewery.com
END:VEVENT
BEGIN:VEVENT
DTSTART;TZID=America/New_York:20270227T120000
DTEND;TZID=America/New_York:20270227T220000
DTSTAMP:20260425T225937
CREATED:20230726T164153Z
LAST-MODIFIED:20230726T165849Z
UID:10004992-1803729600-1803765600@smyrna.reformationbrewery.com
SUMMARY:Saturday Specials
DESCRIPTION:$6 Judemosas all day – every taproom
URL:https://smyrna.reformationbrewery.com/event/saturday-specials/2027-02-27/
LOCATION:Reformation Brewery (Smyrna)\, 6255 RIVERVIEW ROAD BUILDING 4000\, SUITE 200\, Smyrna\, GA\, 30126\, United States
ATTACH;FMTTYPE=image/png:https://smyrna.reformationbrewery.com/wp-content/uploads/sites/4/2023/07/Weekly-Specials-2-2.png
ORGANIZER;CN="Reformation Brewery":MAILTO:info@reformationbrewery.com
END:VEVENT
END:VCALENDAR