BEGIN:VCALENDAR
VERSION:2.0
PRODID:-//Smyrna - ECPv6.15.20//NONSGML v1.0//EN
CALSCALE:GREGORIAN
METHOD:PUBLISH
X-ORIGINAL-URL:https://smyrna.reformationbrewery.com
X-WR-CALDESC:Events for Smyrna
REFRESH-INTERVAL;VALUE=DURATION:PT1H
X-Robots-Tag:noindex
X-PUBLISHED-TTL:PT1H
BEGIN:VTIMEZONE
TZID:America/New_York
BEGIN:DAYLIGHT
TZOFFSETFROM:-0500
TZOFFSETTO:-0400
TZNAME:EDT
DTSTART:20250309T070000
END:DAYLIGHT
BEGIN:STANDARD
TZOFFSETFROM:-0400
TZOFFSETTO:-0500
TZNAME:EST
DTSTART:20251102T060000
END:STANDARD
BEGIN:DAYLIGHT
TZOFFSETFROM:-0500
TZOFFSETTO:-0400
TZNAME:EDT
DTSTART:20260308T070000
END:DAYLIGHT
BEGIN:STANDARD
TZOFFSETFROM:-0400
TZOFFSETTO:-0500
TZNAME:EST
DTSTART:20261101T060000
END:STANDARD
BEGIN:DAYLIGHT
TZOFFSETFROM:-0500
TZOFFSETTO:-0400
TZNAME:EDT
DTSTART:20270314T070000
END:DAYLIGHT
BEGIN:STANDARD
TZOFFSETFROM:-0400
TZOFFSETTO:-0500
TZNAME:EST
DTSTART:20271107T060000
END:STANDARD
END:VTIMEZONE
BEGIN:VEVENT
DTSTART;TZID=America/New_York:20260529T120000
DTEND;TZID=America/New_York:20260529T220000
DTSTAMP:20260424T160848
CREATED:20230706T213611Z
LAST-MODIFIED:20240327T195516Z
UID:10004170-1780056000-1780092000@smyrna.reformationbrewery.com
SUMMARY:Friday Flights
DESCRIPTION:Take a flight to Reformation\, and see where you end up! Stop by for 4oz pours of new or tried & tested favorites with friends. Just $8 in Canton & Woodstock until 2pm and all day in Smyrna.
URL:https://smyrna.reformationbrewery.com/event/friday-flights/2026-05-29/
LOCATION:Reformation Brewery (Smyrna)\, 6255 RIVERVIEW ROAD BUILDING 4000\, SUITE 200\, Smyrna\, GA\, 30126\, United States
ATTACH;FMTTYPE=image/png:https://smyrna.reformationbrewery.com/wp-content/uploads/sites/4/2023/07/9.png
ORGANIZER;CN="Reformation Brewery":MAILTO:info@reformationbrewery.com
END:VEVENT
BEGIN:VEVENT
DTSTART;TZID=America/New_York:20260530T120000
DTEND;TZID=America/New_York:20260530T220000
DTSTAMP:20260424T160849
CREATED:20230726T164153Z
LAST-MODIFIED:20230726T165849Z
UID:10004953-1780142400-1780178400@smyrna.reformationbrewery.com
SUMMARY:Saturday Specials
DESCRIPTION:$6 Judemosas all day – every taproom
URL:https://smyrna.reformationbrewery.com/event/saturday-specials/2026-05-30/
LOCATION:Reformation Brewery (Smyrna)\, 6255 RIVERVIEW ROAD BUILDING 4000\, SUITE 200\, Smyrna\, GA\, 30126\, United States
ATTACH;FMTTYPE=image/png:https://smyrna.reformationbrewery.com/wp-content/uploads/sites/4/2023/07/Weekly-Specials-2-2.png
ORGANIZER;CN="Reformation Brewery":MAILTO:info@reformationbrewery.com
END:VEVENT
BEGIN:VEVENT
DTSTART;TZID=America/New_York:20260531T120000
DTEND;TZID=America/New_York:20260531T210000
DTSTAMP:20260424T160849
CREATED:20230706T215308Z
LAST-MODIFIED:20231107T231552Z
UID:10004429-1780228800-1780261200@smyrna.reformationbrewery.com
SUMMARY:Service Sundays
DESCRIPTION:Need a break from tending bar? Make Reformation your home away from home & kickoff your weekend with 25% OFF for Bar Staff & Beertenders on Sundays (all taprooms).
URL:https://smyrna.reformationbrewery.com/event/service-sundays/2026-05-31/
LOCATION:Reformation Brewery (Smyrna)\, 6255 RIVERVIEW ROAD BUILDING 4000\, SUITE 200\, Smyrna\, GA\, 30126\, United States
ATTACH;FMTTYPE=image/png:https://smyrna.reformationbrewery.com/wp-content/uploads/sites/4/2023/07/Weekly-Specials-2-1.png
ORGANIZER;CN="Reformation Brewery":MAILTO:info@reformationbrewery.com
END:VEVENT
BEGIN:VEVENT
DTSTART;TZID=America/New_York:20260531T180000
DTEND;TZID=America/New_York:20260531T200000
DTSTAMP:20260424T160849
CREATED:20230106T201053Z
LAST-MODIFIED:20240205T232609Z
UID:10005406-1780250400-1780257600@smyrna.reformationbrewery.com
SUMMARY:Trivia Night
DESCRIPTION:It’s trivia night! Gather your dream team and join us! Prizes for 1st\, 2nd\, and 3rd place!
URL:https://smyrna.reformationbrewery.com/event/trivia/2026-05-31/
LOCATION:Reformation Brewery (Smyrna)\, 6255 RIVERVIEW ROAD BUILDING 4000\, SUITE 200\, Smyrna\, GA\, 30126\, United States
ATTACH;FMTTYPE=image/jpeg:https://smyrna.reformationbrewery.com/wp-content/uploads/sites/4/2021/07/Trivia-Smyrna.jpeg
ORGANIZER;CN="Reformation Brewery":MAILTO:info@reformationbrewery.com
END:VEVENT
BEGIN:VEVENT
DTSTART;TZID=America/New_York:20260603T150000
DTEND;TZID=America/New_York:20260603T210000
DTSTAMP:20260424T160849
CREATED:20230706T173127Z
LAST-MODIFIED:20230801T233443Z
UID:10003390-1780498800-1780520400@smyrna.reformationbrewery.com
SUMMARY:Wednesday Specials
DESCRIPTION:Wednesdays are for celebrating! Stop by and let us pour you a HALF PRICE Jude at our Smyrna spot.
URL:https://smyrna.reformationbrewery.com/event/wednesday-specials/2026-06-03/
LOCATION:Reformation Brewery (Smyrna)\, 6255 RIVERVIEW ROAD BUILDING 4000\, SUITE 200\, Smyrna\, GA\, 30126\, United States
ATTACH;FMTTYPE=image/png:https://smyrna.reformationbrewery.com/wp-content/uploads/sites/4/2023/07/wed-smyrna.png
ORGANIZER;CN="Reformation Brewery":MAILTO:info@reformationbrewery.com
END:VEVENT
BEGIN:VEVENT
DTSTART;TZID=America/New_York:20260604T150000
DTEND;TZID=America/New_York:20260604T210000
DTSTAMP:20260424T160849
CREATED:20230706T200955Z
LAST-MODIFIED:20250408T162547Z
UID:10003910-1780585200-1780606800@smyrna.reformationbrewery.com
SUMMARY:Thirsty Thursday
DESCRIPTION:Come thirsty – leave with a growler full! Get $5 off when you BYOG (bring your own growler). Price varies by style.
URL:https://smyrna.reformationbrewery.com/event/thirsty-thursday/2026-06-04/
LOCATION:Reformation Brewery (Smyrna)\, 6255 RIVERVIEW ROAD BUILDING 4000\, SUITE 200\, Smyrna\, GA\, 30126\, United States
ATTACH;FMTTYPE=image/png:https://smyrna.reformationbrewery.com/wp-content/uploads/sites/4/2023/07/Weekly-Specials-2-3.png
ORGANIZER;CN="Reformation Brewery":MAILTO:info@reformationbrewery.com
END:VEVENT
BEGIN:VEVENT
DTSTART;TZID=America/New_York:20260604T190000
DTEND;TZID=America/New_York:20260604T210000
DTSTAMP:20260424T160849
CREATED:20241010T181055Z
LAST-MODIFIED:20241010T181055Z
UID:10002058-1780599600-1780606800@smyrna.reformationbrewery.com
SUMMARY:Music Bingo
DESCRIPTION:Come hang with us for Music Bingo! Brought to you by Lights Up Entertainment!
URL:https://smyrna.reformationbrewery.com/event/music-bingo-4-3/2026-06-04/
LOCATION:Reformation Brewery (Smyrna)\, 6255 RIVERVIEW ROAD BUILDING 4000\, SUITE 200\, Smyrna\, GA\, 30126\, United States
ATTACH;FMTTYPE=image/png:https://smyrna.reformationbrewery.com/wp-content/uploads/sites/4/2023/01/13.png
ORGANIZER;CN="Reformation Brewery":MAILTO:info@reformationbrewery.com
END:VEVENT
BEGIN:VEVENT
DTSTART;TZID=America/New_York:20260605T120000
DTEND;TZID=America/New_York:20260605T220000
DTSTAMP:20260424T160849
CREATED:20230706T213611Z
LAST-MODIFIED:20240327T195516Z
UID:10004171-1780660800-1780696800@smyrna.reformationbrewery.com
SUMMARY:Friday Flights
DESCRIPTION:Take a flight to Reformation\, and see where you end up! Stop by for 4oz pours of new or tried & tested favorites with friends. Just $8 in Canton & Woodstock until 2pm and all day in Smyrna.
URL:https://smyrna.reformationbrewery.com/event/friday-flights/2026-06-05/
LOCATION:Reformation Brewery (Smyrna)\, 6255 RIVERVIEW ROAD BUILDING 4000\, SUITE 200\, Smyrna\, GA\, 30126\, United States
ATTACH;FMTTYPE=image/png:https://smyrna.reformationbrewery.com/wp-content/uploads/sites/4/2023/07/9.png
ORGANIZER;CN="Reformation Brewery":MAILTO:info@reformationbrewery.com
END:VEVENT
BEGIN:VEVENT
DTSTART;TZID=America/New_York:20260605T170000
DTEND;TZID=America/New_York:20260605T200000
DTSTAMP:20260424T160849
CREATED:20250401T152112Z
LAST-MODIFIED:20250710T163131Z
UID:10007383-1780678800-1780689600@smyrna.reformationbrewery.com
SUMMARY:Nothin' to Lose
DESCRIPTION:Live music\, cold beer\, and good vibes – what more could you need? Join us for great tunes and even better company!
URL:https://smyrna.reformationbrewery.com/event/nothin-to-lose-2/2026-06-05/
LOCATION:Reformation Brewery (Smyrna)\, 6255 RIVERVIEW ROAD BUILDING 4000\, SUITE 200\, Smyrna\, GA\, 30126\, United States
CATEGORIES:Smyrna,Music
ATTACH;FMTTYPE=image/png:https://smyrna.reformationbrewery.com/wp-content/uploads/sites/4/2025/04/FB-Event-Musician-Header.png
END:VEVENT
BEGIN:VEVENT
DTSTART;TZID=America/New_York:20260606T120000
DTEND;TZID=America/New_York:20260606T220000
DTSTAMP:20260424T160849
CREATED:20230726T164153Z
LAST-MODIFIED:20230726T165849Z
UID:10004954-1780747200-1780783200@smyrna.reformationbrewery.com
SUMMARY:Saturday Specials
DESCRIPTION:$6 Judemosas all day – every taproom
URL:https://smyrna.reformationbrewery.com/event/saturday-specials/2026-06-06/
LOCATION:Reformation Brewery (Smyrna)\, 6255 RIVERVIEW ROAD BUILDING 4000\, SUITE 200\, Smyrna\, GA\, 30126\, United States
ATTACH;FMTTYPE=image/png:https://smyrna.reformationbrewery.com/wp-content/uploads/sites/4/2023/07/Weekly-Specials-2-2.png
ORGANIZER;CN="Reformation Brewery":MAILTO:info@reformationbrewery.com
END:VEVENT
BEGIN:VEVENT
DTSTART;TZID=America/New_York:20260607T120000
DTEND;TZID=America/New_York:20260607T210000
DTSTAMP:20260424T160849
CREATED:20230706T215308Z
LAST-MODIFIED:20231107T231552Z
UID:10004430-1780833600-1780866000@smyrna.reformationbrewery.com
SUMMARY:Service Sundays
DESCRIPTION:Need a break from tending bar? Make Reformation your home away from home & kickoff your weekend with 25% OFF for Bar Staff & Beertenders on Sundays (all taprooms).
URL:https://smyrna.reformationbrewery.com/event/service-sundays/2026-06-07/
LOCATION:Reformation Brewery (Smyrna)\, 6255 RIVERVIEW ROAD BUILDING 4000\, SUITE 200\, Smyrna\, GA\, 30126\, United States
ATTACH;FMTTYPE=image/png:https://smyrna.reformationbrewery.com/wp-content/uploads/sites/4/2023/07/Weekly-Specials-2-1.png
ORGANIZER;CN="Reformation Brewery":MAILTO:info@reformationbrewery.com
END:VEVENT
BEGIN:VEVENT
DTSTART;TZID=America/New_York:20260607T180000
DTEND;TZID=America/New_York:20260607T200000
DTSTAMP:20260424T160849
CREATED:20230106T201053Z
LAST-MODIFIED:20240205T232609Z
UID:10005407-1780855200-1780862400@smyrna.reformationbrewery.com
SUMMARY:Trivia Night
DESCRIPTION:It’s trivia night! Gather your dream team and join us! Prizes for 1st\, 2nd\, and 3rd place!
URL:https://smyrna.reformationbrewery.com/event/trivia/2026-06-07/
LOCATION:Reformation Brewery (Smyrna)\, 6255 RIVERVIEW ROAD BUILDING 4000\, SUITE 200\, Smyrna\, GA\, 30126\, United States
ATTACH;FMTTYPE=image/jpeg:https://smyrna.reformationbrewery.com/wp-content/uploads/sites/4/2021/07/Trivia-Smyrna.jpeg
ORGANIZER;CN="Reformation Brewery":MAILTO:info@reformationbrewery.com
END:VEVENT
BEGIN:VEVENT
DTSTART;TZID=America/New_York:20260610T150000
DTEND;TZID=America/New_York:20260610T210000
DTSTAMP:20260424T160849
CREATED:20230706T173127Z
LAST-MODIFIED:20230801T233443Z
UID:10003391-1781103600-1781125200@smyrna.reformationbrewery.com
SUMMARY:Wednesday Specials
DESCRIPTION:Wednesdays are for celebrating! Stop by and let us pour you a HALF PRICE Jude at our Smyrna spot.
URL:https://smyrna.reformationbrewery.com/event/wednesday-specials/2026-06-10/
LOCATION:Reformation Brewery (Smyrna)\, 6255 RIVERVIEW ROAD BUILDING 4000\, SUITE 200\, Smyrna\, GA\, 30126\, United States
ATTACH;FMTTYPE=image/png:https://smyrna.reformationbrewery.com/wp-content/uploads/sites/4/2023/07/wed-smyrna.png
ORGANIZER;CN="Reformation Brewery":MAILTO:info@reformationbrewery.com
END:VEVENT
BEGIN:VEVENT
DTSTART;TZID=America/New_York:20260611T150000
DTEND;TZID=America/New_York:20260611T210000
DTSTAMP:20260424T160849
CREATED:20230706T200955Z
LAST-MODIFIED:20250408T162547Z
UID:10003911-1781190000-1781211600@smyrna.reformationbrewery.com
SUMMARY:Thirsty Thursday
DESCRIPTION:Come thirsty – leave with a growler full! Get $5 off when you BYOG (bring your own growler). Price varies by style.
URL:https://smyrna.reformationbrewery.com/event/thirsty-thursday/2026-06-11/
LOCATION:Reformation Brewery (Smyrna)\, 6255 RIVERVIEW ROAD BUILDING 4000\, SUITE 200\, Smyrna\, GA\, 30126\, United States
ATTACH;FMTTYPE=image/png:https://smyrna.reformationbrewery.com/wp-content/uploads/sites/4/2023/07/Weekly-Specials-2-3.png
ORGANIZER;CN="Reformation Brewery":MAILTO:info@reformationbrewery.com
END:VEVENT
BEGIN:VEVENT
DTSTART;TZID=America/New_York:20260611T190000
DTEND;TZID=America/New_York:20260611T210000
DTSTAMP:20260424T160849
CREATED:20241010T181055Z
LAST-MODIFIED:20241010T181055Z
UID:10002059-1781204400-1781211600@smyrna.reformationbrewery.com
SUMMARY:Music Bingo
DESCRIPTION:Come hang with us for Music Bingo! Brought to you by Lights Up Entertainment!
URL:https://smyrna.reformationbrewery.com/event/music-bingo-4-3/2026-06-11/
LOCATION:Reformation Brewery (Smyrna)\, 6255 RIVERVIEW ROAD BUILDING 4000\, SUITE 200\, Smyrna\, GA\, 30126\, United States
ATTACH;FMTTYPE=image/png:https://smyrna.reformationbrewery.com/wp-content/uploads/sites/4/2023/01/13.png
ORGANIZER;CN="Reformation Brewery":MAILTO:info@reformationbrewery.com
END:VEVENT
BEGIN:VEVENT
DTSTART;TZID=America/New_York:20260612T120000
DTEND;TZID=America/New_York:20260612T220000
DTSTAMP:20260424T160849
CREATED:20230706T213611Z
LAST-MODIFIED:20240327T195516Z
UID:10004172-1781265600-1781301600@smyrna.reformationbrewery.com
SUMMARY:Friday Flights
DESCRIPTION:Take a flight to Reformation\, and see where you end up! Stop by for 4oz pours of new or tried & tested favorites with friends. Just $8 in Canton & Woodstock until 2pm and all day in Smyrna.
URL:https://smyrna.reformationbrewery.com/event/friday-flights/2026-06-12/
LOCATION:Reformation Brewery (Smyrna)\, 6255 RIVERVIEW ROAD BUILDING 4000\, SUITE 200\, Smyrna\, GA\, 30126\, United States
ATTACH;FMTTYPE=image/png:https://smyrna.reformationbrewery.com/wp-content/uploads/sites/4/2023/07/9.png
ORGANIZER;CN="Reformation Brewery":MAILTO:info@reformationbrewery.com
END:VEVENT
BEGIN:VEVENT
DTSTART;TZID=America/New_York:20260613T120000
DTEND;TZID=America/New_York:20260613T220000
DTSTAMP:20260424T160849
CREATED:20230726T164153Z
LAST-MODIFIED:20230726T165849Z
UID:10004955-1781352000-1781388000@smyrna.reformationbrewery.com
SUMMARY:Saturday Specials
DESCRIPTION:$6 Judemosas all day – every taproom
URL:https://smyrna.reformationbrewery.com/event/saturday-specials/2026-06-13/
LOCATION:Reformation Brewery (Smyrna)\, 6255 RIVERVIEW ROAD BUILDING 4000\, SUITE 200\, Smyrna\, GA\, 30126\, United States
ATTACH;FMTTYPE=image/png:https://smyrna.reformationbrewery.com/wp-content/uploads/sites/4/2023/07/Weekly-Specials-2-2.png
ORGANIZER;CN="Reformation Brewery":MAILTO:info@reformationbrewery.com
END:VEVENT
BEGIN:VEVENT
DTSTART;TZID=America/New_York:20260614T120000
DTEND;TZID=America/New_York:20260614T210000
DTSTAMP:20260424T160849
CREATED:20230706T215308Z
LAST-MODIFIED:20231107T231552Z
UID:10004431-1781438400-1781470800@smyrna.reformationbrewery.com
SUMMARY:Service Sundays
DESCRIPTION:Need a break from tending bar? Make Reformation your home away from home & kickoff your weekend with 25% OFF for Bar Staff & Beertenders on Sundays (all taprooms).
URL:https://smyrna.reformationbrewery.com/event/service-sundays/2026-06-14/
LOCATION:Reformation Brewery (Smyrna)\, 6255 RIVERVIEW ROAD BUILDING 4000\, SUITE 200\, Smyrna\, GA\, 30126\, United States
ATTACH;FMTTYPE=image/png:https://smyrna.reformationbrewery.com/wp-content/uploads/sites/4/2023/07/Weekly-Specials-2-1.png
ORGANIZER;CN="Reformation Brewery":MAILTO:info@reformationbrewery.com
END:VEVENT
BEGIN:VEVENT
DTSTART;TZID=America/New_York:20260614T180000
DTEND;TZID=America/New_York:20260614T200000
DTSTAMP:20260424T160849
CREATED:20230106T201053Z
LAST-MODIFIED:20240205T232609Z
UID:10005408-1781460000-1781467200@smyrna.reformationbrewery.com
SUMMARY:Trivia Night
DESCRIPTION:It’s trivia night! Gather your dream team and join us! Prizes for 1st\, 2nd\, and 3rd place!
URL:https://smyrna.reformationbrewery.com/event/trivia/2026-06-14/
LOCATION:Reformation Brewery (Smyrna)\, 6255 RIVERVIEW ROAD BUILDING 4000\, SUITE 200\, Smyrna\, GA\, 30126\, United States
ATTACH;FMTTYPE=image/jpeg:https://smyrna.reformationbrewery.com/wp-content/uploads/sites/4/2021/07/Trivia-Smyrna.jpeg
ORGANIZER;CN="Reformation Brewery":MAILTO:info@reformationbrewery.com
END:VEVENT
BEGIN:VEVENT
DTSTART;TZID=America/New_York:20260617T150000
DTEND;TZID=America/New_York:20260617T210000
DTSTAMP:20260424T160849
CREATED:20230706T173127Z
LAST-MODIFIED:20230801T233443Z
UID:10003392-1781708400-1781730000@smyrna.reformationbrewery.com
SUMMARY:Wednesday Specials
DESCRIPTION:Wednesdays are for celebrating! Stop by and let us pour you a HALF PRICE Jude at our Smyrna spot.
URL:https://smyrna.reformationbrewery.com/event/wednesday-specials/2026-06-17/
LOCATION:Reformation Brewery (Smyrna)\, 6255 RIVERVIEW ROAD BUILDING 4000\, SUITE 200\, Smyrna\, GA\, 30126\, United States
ATTACH;FMTTYPE=image/png:https://smyrna.reformationbrewery.com/wp-content/uploads/sites/4/2023/07/wed-smyrna.png
ORGANIZER;CN="Reformation Brewery":MAILTO:info@reformationbrewery.com
END:VEVENT
BEGIN:VEVENT
DTSTART;TZID=America/New_York:20260618T150000
DTEND;TZID=America/New_York:20260618T210000
DTSTAMP:20260424T160849
CREATED:20230706T200955Z
LAST-MODIFIED:20250408T162547Z
UID:10003912-1781794800-1781816400@smyrna.reformationbrewery.com
SUMMARY:Thirsty Thursday
DESCRIPTION:Come thirsty – leave with a growler full! Get $5 off when you BYOG (bring your own growler). Price varies by style.
URL:https://smyrna.reformationbrewery.com/event/thirsty-thursday/2026-06-18/
LOCATION:Reformation Brewery (Smyrna)\, 6255 RIVERVIEW ROAD BUILDING 4000\, SUITE 200\, Smyrna\, GA\, 30126\, United States
ATTACH;FMTTYPE=image/png:https://smyrna.reformationbrewery.com/wp-content/uploads/sites/4/2023/07/Weekly-Specials-2-3.png
ORGANIZER;CN="Reformation Brewery":MAILTO:info@reformationbrewery.com
END:VEVENT
BEGIN:VEVENT
DTSTART;TZID=America/New_York:20260618T190000
DTEND;TZID=America/New_York:20260618T210000
DTSTAMP:20260424T160849
CREATED:20241010T181055Z
LAST-MODIFIED:20241010T181055Z
UID:10002060-1781809200-1781816400@smyrna.reformationbrewery.com
SUMMARY:Music Bingo
DESCRIPTION:Come hang with us for Music Bingo! Brought to you by Lights Up Entertainment!
URL:https://smyrna.reformationbrewery.com/event/music-bingo-4-3/2026-06-18/
LOCATION:Reformation Brewery (Smyrna)\, 6255 RIVERVIEW ROAD BUILDING 4000\, SUITE 200\, Smyrna\, GA\, 30126\, United States
ATTACH;FMTTYPE=image/png:https://smyrna.reformationbrewery.com/wp-content/uploads/sites/4/2023/01/13.png
ORGANIZER;CN="Reformation Brewery":MAILTO:info@reformationbrewery.com
END:VEVENT
BEGIN:VEVENT
DTSTART;TZID=America/New_York:20260619T120000
DTEND;TZID=America/New_York:20260619T220000
DTSTAMP:20260424T160849
CREATED:20230706T213611Z
LAST-MODIFIED:20240327T195516Z
UID:10004173-1781870400-1781906400@smyrna.reformationbrewery.com
SUMMARY:Friday Flights
DESCRIPTION:Take a flight to Reformation\, and see where you end up! Stop by for 4oz pours of new or tried & tested favorites with friends. Just $8 in Canton & Woodstock until 2pm and all day in Smyrna.
URL:https://smyrna.reformationbrewery.com/event/friday-flights/2026-06-19/
LOCATION:Reformation Brewery (Smyrna)\, 6255 RIVERVIEW ROAD BUILDING 4000\, SUITE 200\, Smyrna\, GA\, 30126\, United States
ATTACH;FMTTYPE=image/png:https://smyrna.reformationbrewery.com/wp-content/uploads/sites/4/2023/07/9.png
ORGANIZER;CN="Reformation Brewery":MAILTO:info@reformationbrewery.com
END:VEVENT
BEGIN:VEVENT
DTSTART;TZID=America/New_York:20260620T120000
DTEND;TZID=America/New_York:20260620T220000
DTSTAMP:20260424T160849
CREATED:20230726T164153Z
LAST-MODIFIED:20230726T165849Z
UID:10004956-1781956800-1781992800@smyrna.reformationbrewery.com
SUMMARY:Saturday Specials
DESCRIPTION:$6 Judemosas all day – every taproom
URL:https://smyrna.reformationbrewery.com/event/saturday-specials/2026-06-20/
LOCATION:Reformation Brewery (Smyrna)\, 6255 RIVERVIEW ROAD BUILDING 4000\, SUITE 200\, Smyrna\, GA\, 30126\, United States
ATTACH;FMTTYPE=image/png:https://smyrna.reformationbrewery.com/wp-content/uploads/sites/4/2023/07/Weekly-Specials-2-2.png
ORGANIZER;CN="Reformation Brewery":MAILTO:info@reformationbrewery.com
END:VEVENT
BEGIN:VEVENT
DTSTART;TZID=America/New_York:20260621T120000
DTEND;TZID=America/New_York:20260621T210000
DTSTAMP:20260424T160849
CREATED:20230706T215308Z
LAST-MODIFIED:20231107T231552Z
UID:10004432-1782043200-1782075600@smyrna.reformationbrewery.com
SUMMARY:Service Sundays
DESCRIPTION:Need a break from tending bar? Make Reformation your home away from home & kickoff your weekend with 25% OFF for Bar Staff & Beertenders on Sundays (all taprooms).
URL:https://smyrna.reformationbrewery.com/event/service-sundays/2026-06-21/
LOCATION:Reformation Brewery (Smyrna)\, 6255 RIVERVIEW ROAD BUILDING 4000\, SUITE 200\, Smyrna\, GA\, 30126\, United States
ATTACH;FMTTYPE=image/png:https://smyrna.reformationbrewery.com/wp-content/uploads/sites/4/2023/07/Weekly-Specials-2-1.png
ORGANIZER;CN="Reformation Brewery":MAILTO:info@reformationbrewery.com
END:VEVENT
BEGIN:VEVENT
DTSTART;TZID=America/New_York:20260621T180000
DTEND;TZID=America/New_York:20260621T200000
DTSTAMP:20260424T160849
CREATED:20230106T201053Z
LAST-MODIFIED:20240205T232609Z
UID:10005409-1782064800-1782072000@smyrna.reformationbrewery.com
SUMMARY:Trivia Night
DESCRIPTION:It’s trivia night! Gather your dream team and join us! Prizes for 1st\, 2nd\, and 3rd place!
URL:https://smyrna.reformationbrewery.com/event/trivia/2026-06-21/
LOCATION:Reformation Brewery (Smyrna)\, 6255 RIVERVIEW ROAD BUILDING 4000\, SUITE 200\, Smyrna\, GA\, 30126\, United States
ATTACH;FMTTYPE=image/jpeg:https://smyrna.reformationbrewery.com/wp-content/uploads/sites/4/2021/07/Trivia-Smyrna.jpeg
ORGANIZER;CN="Reformation Brewery":MAILTO:info@reformationbrewery.com
END:VEVENT
BEGIN:VEVENT
DTSTART;TZID=America/New_York:20260624T150000
DTEND;TZID=America/New_York:20260624T210000
DTSTAMP:20260424T160849
CREATED:20230706T173127Z
LAST-MODIFIED:20230801T233443Z
UID:10003393-1782313200-1782334800@smyrna.reformationbrewery.com
SUMMARY:Wednesday Specials
DESCRIPTION:Wednesdays are for celebrating! Stop by and let us pour you a HALF PRICE Jude at our Smyrna spot.
URL:https://smyrna.reformationbrewery.com/event/wednesday-specials/2026-06-24/
LOCATION:Reformation Brewery (Smyrna)\, 6255 RIVERVIEW ROAD BUILDING 4000\, SUITE 200\, Smyrna\, GA\, 30126\, United States
ATTACH;FMTTYPE=image/png:https://smyrna.reformationbrewery.com/wp-content/uploads/sites/4/2023/07/wed-smyrna.png
ORGANIZER;CN="Reformation Brewery":MAILTO:info@reformationbrewery.com
END:VEVENT
BEGIN:VEVENT
DTSTART;TZID=America/New_York:20260625T150000
DTEND;TZID=America/New_York:20260625T210000
DTSTAMP:20260424T160849
CREATED:20230706T200955Z
LAST-MODIFIED:20250408T162547Z
UID:10003913-1782399600-1782421200@smyrna.reformationbrewery.com
SUMMARY:Thirsty Thursday
DESCRIPTION:Come thirsty – leave with a growler full! Get $5 off when you BYOG (bring your own growler). Price varies by style.
URL:https://smyrna.reformationbrewery.com/event/thirsty-thursday/2026-06-25/
LOCATION:Reformation Brewery (Smyrna)\, 6255 RIVERVIEW ROAD BUILDING 4000\, SUITE 200\, Smyrna\, GA\, 30126\, United States
ATTACH;FMTTYPE=image/png:https://smyrna.reformationbrewery.com/wp-content/uploads/sites/4/2023/07/Weekly-Specials-2-3.png
ORGANIZER;CN="Reformation Brewery":MAILTO:info@reformationbrewery.com
END:VEVENT
BEGIN:VEVENT
DTSTART;TZID=America/New_York:20260625T190000
DTEND;TZID=America/New_York:20260625T210000
DTSTAMP:20260424T160849
CREATED:20241010T181055Z
LAST-MODIFIED:20241010T181055Z
UID:10002061-1782414000-1782421200@smyrna.reformationbrewery.com
SUMMARY:Music Bingo
DESCRIPTION:Come hang with us for Music Bingo! Brought to you by Lights Up Entertainment!
URL:https://smyrna.reformationbrewery.com/event/music-bingo-4-3/2026-06-25/
LOCATION:Reformation Brewery (Smyrna)\, 6255 RIVERVIEW ROAD BUILDING 4000\, SUITE 200\, Smyrna\, GA\, 30126\, United States
ATTACH;FMTTYPE=image/png:https://smyrna.reformationbrewery.com/wp-content/uploads/sites/4/2023/01/13.png
ORGANIZER;CN="Reformation Brewery":MAILTO:info@reformationbrewery.com
END:VEVENT
BEGIN:VEVENT
DTSTART;TZID=America/New_York:20260626T120000
DTEND;TZID=America/New_York:20260626T220000
DTSTAMP:20260424T160849
CREATED:20230706T213611Z
LAST-MODIFIED:20240327T195516Z
UID:10004174-1782475200-1782511200@smyrna.reformationbrewery.com
SUMMARY:Friday Flights
DESCRIPTION:Take a flight to Reformation\, and see where you end up! Stop by for 4oz pours of new or tried & tested favorites with friends. Just $8 in Canton & Woodstock until 2pm and all day in Smyrna.
URL:https://smyrna.reformationbrewery.com/event/friday-flights/2026-06-26/
LOCATION:Reformation Brewery (Smyrna)\, 6255 RIVERVIEW ROAD BUILDING 4000\, SUITE 200\, Smyrna\, GA\, 30126\, United States
ATTACH;FMTTYPE=image/png:https://smyrna.reformationbrewery.com/wp-content/uploads/sites/4/2023/07/9.png
ORGANIZER;CN="Reformation Brewery":MAILTO:info@reformationbrewery.com
END:VEVENT
END:VCALENDAR